BEGIN:VCALENDAR
VERSION:2.0
METHOD:PUBLISH
X-WR-CALNAME:Суть времени |  октября 27 2011- ноября 26 2011
PRODID:-//strange bird labs//Drupal iCal API//EN
BEGIN:VEVENT
DTSTAMP;VALUE=DATE-TIME:20260424T160651Z
DTSTART;VALUE=DATE-TIME:20111106T210000Z
DTEND;VALUE=DATE-TIME:20111106T210000Z
UID:https://eot.su/node/8931
URL;VALUE=URI:https://eot.su/node/8931
SUMMARY:7 ноября - Митинг в честь годовщины Октября!
DESCRIPTION:<p>7 ноября в 19.00. у памятника Революции 1905-1907 года (м. Улица 1905 года) пройдёт митинг клуба \\"Суть времени\\"\, приуроченный к 94-ой годовщине Великой Октябрьской Социалистической Революции!</p>
 
END:VEVENT
BEGIN:VEVENT
DTSTAMP;VALUE=DATE-TIME:20260424T160651Z
DTSTART;VALUE=DATE-TIME:20111110T111700Z
DTEND;VALUE=DATE-TIME:20111110T111700Z
UID:https://eot.su/node/9100
URL;VALUE=URI:https://eot.su/node/9100
SUMMARY:Заседание клуба «Содержательное единство»
DESCRIPTION:<p>Тема клуба\: Работа на перспективу.<br />
 О том\, как внутри выборного процесса формируются новые идеологемы и стратагемы.<br />
 Начало заседания в 18\:00.<br />
 Запись по телефону +7(495) 691-50-03.</p>
 
END:VEVENT
BEGIN:VEVENT
DTSTAMP;VALUE=DATE-TIME:20260424T160651Z
DTSTART;VALUE=DATE-TIME:20111113T090000Z
DTEND;VALUE=DATE-TIME:20111113T120000Z
UID:https://eot.su/node/9176
URL;VALUE=URI:https://eot.su/node/9176
SUMMARY:Самара. Пикет. Ознакомление с результатами АКСИО
DESCRIPTION:<p>На 13.11.11 планируется проведение пикета с 12-00 до 15-00 в сквере им. В.В. Маяковского. Тема\: ознакомить граждан с результатами опросов АКСИО\, а также рассказать о деятельности клуба. </p>
 
END:VEVENT
BEGIN:VEVENT
DTSTAMP;VALUE=DATE-TIME:20260424T160651Z
DTSTART;VALUE=DATE-TIME:20111117T160000Z
DTEND;VALUE=DATE-TIME:20111117T190000Z
UID:https://eot.su/node/9305
URL;VALUE=URI:https://eot.su/node/9305
SUMMARY:Киноклуб ЭТЦ\: фильм Тима Роббинса «Колыбель будет качаться»
DESCRIPTION:<p>17 ноября в 19\:00 в Молодёжном дискуссионном клубе ЭТЦ состоится просмотр и обсуждение фильма Тима Роббинса «Колыбель будет качаться».<br />
 Запись и справки по телефону 8 (495) 650-57-45.<br />
 Адрес\: Вспольный пер.\, 21.</p>
 
END:VEVENT
BEGIN:VEVENT
DTSTAMP;VALUE=DATE-TIME:20260424T160651Z
DTSTART;VALUE=DATE-TIME:20111118T170000Z
DTEND;VALUE=DATE-TIME:20111118T190000Z
UID:https://eot.su/node/9116
URL;VALUE=URI:https://eot.su/node/9116
SUMMARY:Народный лекторий\: лекция «Идейные течения и общественно-политические движения в России 1860–1880 гг.»
DESCRIPTION:<p>Подробнее на сайте Моссовета <a href=\\"http\://www.sovet.msk.ru/view/808\\" rel=\\"nofollow\\">по ссылке</a>.</p>
 
END:VEVENT
BEGIN:VEVENT
DTSTAMP;VALUE=DATE-TIME:20260424T160651Z
DTSTART;VALUE=DATE-TIME:20111118T214200Z
DTEND;VALUE=DATE-TIME:20111119T194200Z
UID:https://eot.su/node/9441
URL;VALUE=URI:https://eot.su/node/9441
SUMMARY:Заседание дискуссионного клуба в Красноярске
DESCRIPTION:<p>Заседание дискуссионного клуба в Красноярске</p>
 
END:VEVENT
END:VCALENDAR
