BEGIN:VCALENDAR
VERSION:2.0
METHOD:PUBLISH
X-WR-CALNAME:Суть времени |  марта 19 2012- апреля 18 2012
PRODID:-//strange bird labs//Drupal iCal API//EN
BEGIN:VEVENT
DTSTAMP;VALUE=DATE-TIME:20260419T125251Z
DTSTART;VALUE=DATE-TIME:20120316T110000Z
DTEND;VALUE=DATE-TIME:20120323T110000Z
UID:https://eot.su/node/11319
URL;VALUE=URI:https://eot.su/node/11319
SUMMARY:Фотовыставка \\"20 лет без СССР\\" в Киеве
DESCRIPTION:<p>16 марта открывается фотовыставка \\"20 лет без СССР\\" в Киеве.<br />
 Открытие выставки  в 14.00 – в эту пятницу.</p>
 <p>График работы\:<br />
 пн-сб\: 11-18<br />
 вс\: выходной</p>
 <p>Адрес\:</p>
 <p>Киев\, пер. Виноградный 1/11<br />
 Здание печерского райкома КПУ<br />
 Ближайшее метро - ст.м. Арсенальная</p>
 <p>Веб-сайт\:</p>
 <p><a href=\\"http\://vk.com/syt.vremeni\\" title=\\"http\://vk.com/syt.vremeni\\" rel=\\"nofollow\\">http\://vk.com/syt.vremeni</a><br />
 vk.com/eot.vustavka</p>
 
END:VEVENT
BEGIN:VEVENT
DTSTAMP;VALUE=DATE-TIME:20260419T125251Z
DTSTART;VALUE=DATE-TIME:20120319T185900Z
DTEND;VALUE=DATE-TIME:20120319T185900Z
UID:https://eot.su/node/11403
URL;VALUE=URI:https://eot.su/node/11403
SUMMARY:Новый праздник - День моряков-подводников
DESCRIPTION:<p>Поздравляем моряков подводного Флота!<br />
 <a href=\\"http\://rugraz.net/index.php/ru/vom-redaktor/106-pozdravljaem-podvodnikov\\" title=\\"http\://rugraz.net/index.php/ru/vom-redaktor/106-pozdravljaem-podvodnikov\\" rel=\\"nofollow\\">http\://rugraz.net/index.php/ru/vom-redaktor/106-po...</a></p>
 
END:VEVENT
BEGIN:VEVENT
DTSTAMP;VALUE=DATE-TIME:20260419T125251Z
DTSTART;VALUE=DATE-TIME:20120322T150000Z
DTEND;VALUE=DATE-TIME:20120322T150000Z
UID:https://eot.su/node/11412
URL;VALUE=URI:https://eot.su/node/11412
SUMMARY:Заседание клуба \\"Содержательное единство\\" 22 марта
DESCRIPTION:<p>Тема\: \\"Политический рельеф России в долгосрочной и краткосрочной перспективе\\".<br />
 Начало заседания в 18\:00.<br />
 Запись по телефону +7 (495) 650-57-45.</p>
 
END:VEVENT
BEGIN:VEVENT
DTSTAMP;VALUE=DATE-TIME:20260419T125251Z
DTSTART;VALUE=DATE-TIME:20120322T205000Z
DTEND;VALUE=DATE-TIME:20120322T205000Z
UID:https://eot.su/node/11424
URL;VALUE=URI:https://eot.su/node/11424
SUMMARY:22 марта в 23\:50 С.Кургинян в программе \\"В контексте\\" на ОРТ
DESCRIPTION:<p> Ведущий - М.Шевченко</p>
 
END:VEVENT
BEGIN:VEVENT
DTSTAMP;VALUE=DATE-TIME:20260419T125251Z
DTSTART;VALUE=DATE-TIME:20120323T130000Z
DTEND;VALUE=DATE-TIME:20120418T205900Z
UID:https://eot.su/node/11429
URL;VALUE=URI:https://eot.su/node/11429
SUMMARY:Фотовыставка \\"20 лет без СССР\\" в г.Остров (Псковская обл.)
DESCRIPTION:<p>23 марта в 16.00 в городе Острове Псковской области в Островской центральной районной библиотеке по адресу\: ул. Спартака\, д.7 официально открывается фотовыставка \\"20 лет без СССР\\".</p>
 <p><a href=\\"http\://eot.su/node/11428\\" title=\\"http\://eot.su/node/11428\\">http\://eot.su/node/11428</a></p>
 
END:VEVENT
BEGIN:VEVENT
DTSTAMP;VALUE=DATE-TIME:20260419T125251Z
DTSTART;VALUE=DATE-TIME:20120401T090000Z
DTEND;VALUE=DATE-TIME:20120401T115900Z
UID:https://eot.su/node/11504
URL;VALUE=URI:https://eot.su/node/11504
SUMMARY:Трансляция дискуссионного клуба Брянской ячейки
DESCRIPTION:<p>Товарищи в это воскресенье (01.04.12) состоится трансляция дискуссионного клуба Брянской ячейки начало в 12\:00 по Москве. Прямая трансляция на канале <a href=\\"http\://yatv.ru/MeetingRoom/\\" title=\\"http\://yatv.ru/MeetingRoom/\\" rel=\\"nofollow\\">http\://yatv.ru/MeetingRoom/</a> Тема дискуссии\: \\"Возможна ли реализация коммунистического проекта\\". </p>
 <p>ОБРАТИТЕ ВНИМАНИЕ! Мы предлагаем Вам выступить на заседании онлайн через скайп или организованный телемост. Для этого необходимо обратиться к Лебедеву Александру.<br />
 E-mail\: <a href=\\"mailto\:lesasha117@gmail.com\\" rel=\\"nofollow\\">lesasha117@gmail.com</a><br />
 Skype\: sashalebedev17</p>
 
END:VEVENT
BEGIN:VEVENT
DTSTAMP;VALUE=DATE-TIME:20260419T125251Z
DTSTART;VALUE=DATE-TIME:20120406T140000Z
DTEND;VALUE=DATE-TIME:20120430T205900Z
UID:https://eot.su/node/11544
URL;VALUE=URI:https://eot.su/node/11544
SUMMARY:Фотовыставка \\"20 лет без СССР\\" в г.Пятигорск
DESCRIPTION:<p>С 6-го по 30-е апреля 2012 года в Пятигорске в центральной городской библиотеке имени Горького (Пятигорск\, ул. Козлова\, д.1) будет проходить выставка \\"20 лет без СССР\\". Открытие в пятницу 6-го апреля в 17.00.</p>
 
END:VEVENT
BEGIN:VEVENT
DTSTAMP;VALUE=DATE-TIME:20260419T125251Z
DTSTART;VALUE=DATE-TIME:20120408T090000Z
DTEND;VALUE=DATE-TIME:20120408T115900Z
UID:https://eot.su/node/11575
URL;VALUE=URI:https://eot.su/node/11575
SUMMARY:Трансляция дискуссионного клуба Брянской ячейки
DESCRIPTION:<p>Товарищи\,  в это воскресенье 08.04.2012. состоится трансляция дискуссионного клуба брянской ячейки. Начало в 12\:00 по Москве. Прямая трансляция на канале <a href=\\"http\://yatv.ru/MeetingRoom/\\" title=\\"http\://yatv.ru/MeetingRoom/\\" rel=\\"nofollow\\">http\://yatv.ru/MeetingRoom/</a> Тема дискуссии\: \\"Политические процессы 30-х годов в СССР\\".</p>
 
END:VEVENT
BEGIN:VEVENT
DTSTAMP;VALUE=DATE-TIME:20260419T125251Z
DTSTART;VALUE=DATE-TIME:20120412T160000Z
DTEND;VALUE=DATE-TIME:20120412T160000Z
UID:https://eot.su/node/11571
URL;VALUE=URI:https://eot.su/node/11571
SUMMARY:Некоммерческий показ художественного фильма \\"Укрощение огня\\" 12 апреля.
DESCRIPTION:<p>12.04.2012\, в День космонавтики и 51-ую годовщину этого исторического полёта\, движение \\"Суть времени\\" совместно с Общественно-деловым центром \\"Общественный центр \\"Моссовет\\" и при поддержке Киноконцерна \\"Мосфильм\\" организует некоммерческий показ художественного фильма \\"Укрощение огня\\" (режиссёр\: Даниил Храбровицкий\, 1972г.\, производство студии \\"Мосфильм\\").</p>
 <p>Вход на мероприятие - бесплатный. Пригласительные билеты на кинопоказ можно получить у активистов Движения на пикетах\, организуемых в поддержку этого мероприятия. Пикеты пройдут 7 и 8 апреля с 13.00 до 17.00 (Поклонная гора\, центральный вход на ВДНХ\, центральный вход в ЦПКиО им. Горького\, Пушкинская площадь рядом с памятником Пушкину\, вход в парк \\"Кузьминки\\")\, ответив на несколько вопросов по истории покорения космоса в нашей стране.</p>
 <p>Кинопоказ художественного фильма \\"Укрощение огня\\" и его последующее обсуждение состоятся в четверг\, 12 апреля 2012 года\, в 19.00 в кинотеатре им. Моссовета по адресу\: г. Москва\, Преображенская площадь\, д. 12.</p>
 
END:VEVENT
BEGIN:VEVENT
DTSTAMP;VALUE=DATE-TIME:20260419T125251Z
DTSTART;VALUE=DATE-TIME:20120413T130000Z
DTEND;VALUE=DATE-TIME:20120413T134000Z
UID:https://eot.su/node/11654
URL;VALUE=URI:https://eot.su/node/11654
SUMMARY:С.Е.Кургинян на радио РСН в передаче \\"Умные парни\\"
DESCRIPTION:<p><strong>13 апреля 2012 г. в 16-00</strong> С.Е.Кургинян будем гостем передачи &quot\;Умные парни&quot\; на РСН (107.0)<br />
 Задать вопросы можно здесь\: <a href=\\"http\://www.rusnovosti.ru/programms/qrelease/197367/\\" title=\\"http\://www.rusnovosti.ru/programms/qrelease/197367/\\" rel=\\"nofollow\\">http\://www.rusnovosti.ru/programms/qrelease/197367/</a></p>
 <p><span><b>Телефон прямого эфира\:</b></span><br />
 	<span><b>+7 (495) 788-107-0</b></span><br />
 	<span><b>SMS номер\:</b></span><br />
 	<span><b>+7 (925) 101-107-0</b></span></p>
 
END:VEVENT
BEGIN:VEVENT
DTSTAMP;VALUE=DATE-TIME:20260419T125251Z
DTSTART;VALUE=DATE-TIME:20120413T160000Z
DTEND;VALUE=DATE-TIME:20120413T160000Z
UID:https://eot.su/node/11618
URL;VALUE=URI:https://eot.su/node/11618
SUMMARY:13 апреля в ЭТЦ состоится Доклад о прошлом и настоящем космонавтики и космической отрасли России.
DESCRIPTION:<p>В рамках акции \\"Советский космос - шаг в будущее\\"\, приуроченной ко дню Космонавтики\, 13 апреля 2012 года в ЭТЦ будет прочитан доклад по теме космонавтики и космической отрасли России.</p>
 <p>Докладчик\: Сергей Васильевич Стреж\, к.т.н.</p>
 <p>В докладе будут рассмотрены следующие вопросы\:<br />
 1. Исторический обзор отечественной космонавтики.<br />
 2. Экономия на космосе - мифы и реальность.<br />
 3. ГЛОНАСС - прошлое и настоящее.<br />
 4. Пилотируемая космонавтика - кому это надо?<br />
 5. Современное состояние дел в космической отрасли.<br />
 6. Актуальная политика - взаимосвязь с космическими горизонтами.</p>
 <p>Подробности по адресу\:<br />
 <a href=\\"http\://www.sovet.msk.ru/cosmos\\" title=\\"http\://www.sovet.msk.ru/cosmos\\" rel=\\"nofollow\\">http\://www.sovet.msk.ru/cosmos</a></p>
 
END:VEVENT
END:VCALENDAR
