BEGIN:VCALENDAR
VERSION:2.0
METHOD:PUBLISH
X-WR-CALNAME:Суть времени |  апреля 16 2012- апреля 23 2012 | Фильтр\: 
PRODID:-//strange bird labs//Drupal iCal API//EN
BEGIN:VEVENT
DTSTAMP;VALUE=DATE-TIME:20260419T141303Z
DTSTART;VALUE=DATE-TIME:20120323T130000Z
DTEND;VALUE=DATE-TIME:20120418T205900Z
UID:https://eot.su/node/11429
URL;VALUE=URI:https://eot.su/node/11429
SUMMARY:Фотовыставка \\"20 лет без СССР\\" в г.Остров (Псковская обл.)
DESCRIPTION:<p>23 марта в 16.00 в городе Острове Псковской области в Островской центральной районной библиотеке по адресу\: ул. Спартака\, д.7 официально открывается фотовыставка \\"20 лет без СССР\\".</p>
 <p><a href=\\"http\://eot.su/node/11428\\" title=\\"http\://eot.su/node/11428\\">http\://eot.su/node/11428</a></p>
 
END:VEVENT
BEGIN:VEVENT
DTSTAMP;VALUE=DATE-TIME:20260419T141303Z
DTSTART;VALUE=DATE-TIME:20120406T140000Z
DTEND;VALUE=DATE-TIME:20120430T205900Z
UID:https://eot.su/node/11544
URL;VALUE=URI:https://eot.su/node/11544
SUMMARY:Фотовыставка \\"20 лет без СССР\\" в г.Пятигорск
DESCRIPTION:<p>С 6-го по 30-е апреля 2012 года в Пятигорске в центральной городской библиотеке имени Горького (Пятигорск\, ул. Козлова\, д.1) будет проходить выставка \\"20 лет без СССР\\". Открытие в пятницу 6-го апреля в 17.00.</p>
 
END:VEVENT
BEGIN:VEVENT
DTSTAMP;VALUE=DATE-TIME:20260419T141303Z
DTSTART;VALUE=DATE-TIME:20120420T160000Z
DTEND;VALUE=DATE-TIME:20120420T160000Z
UID:https://eot.su/node/11439
URL;VALUE=URI:https://eot.su/node/11439
SUMMARY:Показ спектакля \\"IZНЬ\\" в театре \\"На досках\\" 20 апреля
DESCRIPTION:<p>20 апреля в театре \\"На досках\\" состоится показ спектакля \\"IZНЬ\\". Начало в 19.00. Запись и информация по тел. 8 (495) 650- 57-45</p>
 
END:VEVENT
BEGIN:VEVENT
DTSTAMP;VALUE=DATE-TIME:20260419T141303Z
DTSTART;VALUE=DATE-TIME:20120422T070000Z
DTEND;VALUE=DATE-TIME:20120422T070000Z
UID:https://eot.su/node/11659
URL;VALUE=URI:https://eot.su/node/11659
SUMMARY:22 апреля 2012 года в Харькове состоится научно-практическая конференция
DESCRIPTION:<p>22 апреля 2012 года в Харькове состоится научно-практическая конференция «Перспективы социалистических преобразований на Украине в условиях империалистической глобализации». Конференция организована кафедрой Философии и социальных наук Международного Славянского университета совместно с Харьковским дискуссионным клубом Суть времени. Будут представлены доклады ученых экономистов\, политологов\, социологов\, историков\, общественных и политических деятелей. Планируется проведение круглого стола по наиболее острым и дискуссионным вопросам тематики.</p>
 
END:VEVENT
BEGIN:VEVENT
DTSTAMP;VALUE=DATE-TIME:20260419T141303Z
DTSTART;VALUE=DATE-TIME:20120422T080000Z
DTEND;VALUE=DATE-TIME:20120422T080000Z
UID:https://eot.su/node/11632
URL;VALUE=URI:https://eot.su/node/11632
SUMMARY:22 апреля \\"Суть времени\\" выходит на субботник
DESCRIPTION:<p>22 апреля 2012 года в Музее Индустриальной культуры в честь дня рождения В.И. Ленина состоится субботник\, организованный Движением «Суть Времени».</p>
 
END:VEVENT
BEGIN:VEVENT
DTSTAMP;VALUE=DATE-TIME:20260419T141303Z
DTSTART;VALUE=DATE-TIME:20120422T090000Z
DTEND;VALUE=DATE-TIME:20120422T115900Z
UID:https://eot.su/node/11722
URL;VALUE=URI:https://eot.su/node/11722
SUMMARY:9-е заседание брянского дискуссионного клуба
DESCRIPTION:<p>22 апреля 2012 в 12\:00 состоится девятое заседание дискуссионного клуба\, организованного Брянской ячейкой \\"Сути времени\\"\, на тему \\"Экономический кризис и пути выхода из него\\". Онлайн трансляция встречи пройдёт по адресу <a href=\\"http\://yatv.ru/MeetingRoom/\\" title=\\"http\://yatv.ru/MeetingRoom/\\" rel=\\"nofollow\\">http\://yatv.ru/MeetingRoom/</a> Приглашаем всех принять участие. Брянская ячейка Движения \\"Суть времени\\".</p>
 
END:VEVENT
BEGIN:VEVENT
DTSTAMP;VALUE=DATE-TIME:20260419T141303Z
DTSTART;VALUE=DATE-TIME:20120422T100000Z
DTEND;VALUE=DATE-TIME:20120422T100000Z
UID:https://eot.su/node/11699
URL;VALUE=URI:https://eot.su/node/11699
SUMMARY:22 апреля\: 3 события подольской ячейки
DESCRIPTION:<p> 1) 22 апреля в 13\:00 состоится возложение цветов к памятнику Ленина на площади Ленина. Проследуем маршрутом от ДК им.Лепсе до памятника.<br />
 на карте\: <a href=\\"http\://maps.yandex.ru/?text=%D0%A0%D0%BE%D1%81%D1%81%D0%B8%D1%8F%2C%20%D0%9C%D0%BE%D1%81%D0%BA%D0%BE%D0%B2%D1%81%D0%BA%D0%B0%D1%8F%20%D0%BE%D0%B1%D0%BB%D0%B0%D1%81%D1%82%D1%8C%2C%20%D0%9F%D0%BE%D0%B4%D0%BE%D0%BB%D1%8C%D1%81%D0%BA%2C%20%D0%BF%D0%BB%D0%BE%D1%89%D0%B0%D0%B4%D1%8C%20%D0%9B%D0%B5%D0%BD%D0%B8%D0%BD%D0%B0&amp\;sll=37.545258%2C55.430799&amp\;ll=37.545258%2C55.430799&amp\;spn=0.007339%2C0.003221&amp\;z=17&amp\;l=map\\" title=\\"http\://maps.yandex.ru/?text=%D0%A0%D0%BE%D1%81%D1%81%D0%B8%D1%8F%2C%20%D0%9C%D0%BE%D1%81%D0%BA%D0%BE%D0%B2%D1%81%D0%BA%D0%B0%D1%8F%20%D0%BE%D0%B1%D0%BB%D0%B0%D1%81%D1%82%D1%8C%2C%20%D0%9F%D0%BE%D0%B4%D0%BE%D0%BB%D1%8C%D1%81%D0%BA%2C%20%D0%BF%D0%BB%D0%BE%D1%89%D0%B0%D0%B4%D1%8C%20%D0%9B%D0%B5%D0%BD%D0%B8%D0%BD%D0%B0&amp\;sll=37.545258%2C55.430799&amp\;ll=37.545258%2C55.430799&amp\;spn=0.007339%2C0.003221&amp\;z=17&amp\;l=map\\" rel=\\"nofollow\\">http\://maps.yandex.ru/?text=%D0%A0%D0%BE%D1%81%D1%...</a></p>
 <p> 2) 22 апреля в 15\:00 состоится кинопоказ ленты \\"Коммунист\\" в ДК им.Лепсе (вход свободный). После просмотра фильма состоится дискуссия и анализ увиденного. Этот показ откроет киноклуб города\, который будет работать на постоянной основе в ДК им.Лепсе.<br />
 на карте\: <a href=\\"http\://maps.yandex.ru/?text=%D0%B4%D0%BA%20%D0%BB%D0%B5%D0%BF%D1%81%D0%B5&amp\;sll=37.54525800000001%2C55.430799004806836&amp\;sspn=0.007339%2C0.003221&amp\;z=15&amp\;results=20&amp\;ll=37.550067%2C55.431359&amp\;spn=0.029354%2C0.012885&amp\;l=map\\" title=\\"http\://maps.yandex.ru/?text=%D0%B4%D0%BA%20%D0%BB%D0%B5%D0%BF%D1%81%D0%B5&amp\;sll=37.54525800000001%2C55.430799004806836&amp\;sspn=0.007339%2C0.003221&amp\;z=15&amp\;results=20&amp\;ll=37.550067%2C55.431359&amp\;spn=0.029354%2C0.012885&amp\;l=map\\" rel=\\"nofollow\\">http\://maps.yandex.ru/?text=%D0%B4%D0%BA%20%D0%BB%...</a></p>
 <p> 3) 22 апреля в 17\:00 состоится День открытых дверей в ДК ЗиО. На мероприятии планируется рассказать о сложившейся ситуации в стране и мире\, поделиться идеями исправления ситуации и проинформировать о том\, что уже сделано движением \\"Суть Времени\\". Ждём всех желающих.<br />
 на карте\: <a href=\\"http\://maps.yandex.ru/?text=%D0%A0%D0%BE%D1%81%D1%81%D0%B8%D1%8F%2C%20%D0%9C%D0%BE%D1%81%D0%BA%D0%BE%D0%B2%D1%81%D0%BA%D0%B0%D1%8F%20%D0%BE%D0%B1%D0%BB%D0%B0%D1%81%D1%82%D1%8C%2C%20%D0%9F%D0%BE%D0%B4%D0%BE%D0%BB%D1%8C%D1%81%D0%BA%2C%20%D1%83%D0%BB%D0%B8%D1%86%D0%B0%20%D0%9C%D0%B8%D1%80%D0%B0%2C%204&amp\;sll=37.570025%2C55.421384&amp\;ll=37.570025%2C55.421384&amp\;spn=0.014677%2C0.006444&amp\;z=16&amp\;l=map\\" title=\\"http\://maps.yandex.ru/?text=%D0%A0%D0%BE%D1%81%D1%81%D0%B8%D1%8F%2C%20%D0%9C%D0%BE%D1%81%D0%BA%D0%BE%D0%B2%D1%81%D0%BA%D0%B0%D1%8F%20%D0%BE%D0%B1%D0%BB%D0%B0%D1%81%D1%82%D1%8C%2C%20%D0%9F%D0%BE%D0%B4%D0%BE%D0%BB%D1%8C%D1%81%D0%BA%2C%20%D1%83%D0%BB%D0%B8%D1%86%D0%B0%20%D0%9C%D0%B8%D1%80%D0%B0%2C%204&amp\;sll=37.570025%2C55.421384&amp\;ll=37.570025%2C55.421384&amp\;spn=0.014677%2C0.006444&amp\;z=16&amp\;l=map\\" rel=\\"nofollow\\">http\://maps.yandex.ru/?text=%D0%A0%D0%BE%D1%81%D1%...</a></p>
 <p>Будем рады если кто-то захочет присоединиться к проведению мероприятий. Обращайтесь в личку к Вячеславу (<a href=\\"http\://eot.su/user/2677\\" title=\\"http\://eot.su/user/2677\\">http\://eot.su/user/2677</a>)</p>
 
END:VEVENT
END:VCALENDAR
