BEGIN:VCALENDAR
VERSION:2.0
METHOD:PUBLISH
X-WR-CALNAME:Суть времени |  Августа 11 2012- сентября 10 2012
PRODID:-//strange bird labs//Drupal iCal API//EN
BEGIN:VEVENT
DTSTAMP;VALUE=DATE-TIME:20260425T094921Z
DTSTART;VALUE=DATE-TIME:20120731T220000Z
DTEND;VALUE=DATE-TIME:20120831T205900Z
UID:https://eot.su/node/12733
URL;VALUE=URI:https://eot.su/node/12733
SUMMARY:Выставка \\"20 лет без СССР\\" в Рязани
DESCRIPTION:<p>В Рязани проходит фотовыставка «20 лет без СССР». Местное отделение Движения «Суть времени» организовало сразу две экспозиции.</p>
 <p>С 1 по 31 августа - в Центре детско-юношеского художественного творчества по адресу<br />
 г. Рязань\, ул. Стройкова\, д. 90 (в помещении Детской картинной галереи).<br />
 Выставка работает по будням - с 14.00 до 20.00\, в выходные дни - с 10.00 до 18.00.</p>
 <p>с 4 по 27 августа - в торгово-развлекательном центре «Малина» по адресу\:<br />
 г. Рязань\, ул. Соборная\, д. 15-а (третий этаж).<br />
 Выставка работает ежедневно с 12.00 до 19.00.</p>
 <p>Справки о выставке в Рязани - по телефону 8 (905) 187-34-41.</p>
 
END:VEVENT
BEGIN:VEVENT
DTSTAMP;VALUE=DATE-TIME:20260425T094921Z
DTSTART;VALUE=DATE-TIME:20120819T070000Z
DTEND;VALUE=DATE-TIME:20120906T150000Z
UID:https://eot.su/node/12818
URL;VALUE=URI:https://eot.su/node/12818
SUMMARY: Фотовыставка «20 лет без СССР» в Спасске-Дальнем
DESCRIPTION:<p>С 19 августа по 16 сентября в городе Спасске-Дальнем (Приморский край) проходит фотовыставка<br />
 «20 лет без СССР»\, организованная активистами Движения «Суть времени».</p>
 
END:VEVENT
BEGIN:VEVENT
DTSTAMP;VALUE=DATE-TIME:20260425T094921Z
DTSTART;VALUE=DATE-TIME:20120908T080000Z
DTEND;VALUE=DATE-TIME:20120923T150000Z
UID:https://eot.su/node/12903
URL;VALUE=URI:https://eot.su/node/12903
SUMMARY:Фотовыставка «20 лет без СССР» в Риге (Латвия)
DESCRIPTION:<p>Фотовыставка «20 лет без СССР» пройдёт с 8 по 16 сентября в городе Риге (Латвия).</p>
 <p>Выставка организована рижской ячейкой «Суть времени» в Доме Москвы по адресу\: г. Рига\, ул. Марияс\, 7.</p>
 <p>Режим работы\:<br />
 в рабочие дни - с 11\:00 до 19\:00\,<br />
 в выходные дни - с 11\:00 до 18\:00.</p>
 <p>Контактный телефон\:<br />
 +371 26878867</p>
 
END:VEVENT
END:VCALENDAR
