BEGIN:VCALENDAR
VERSION:2.0
METHOD:PUBLISH
X-WR-CALNAME:Суть времени |  октября 02 2012- ноября 01 2012
PRODID:-//strange bird labs//Drupal iCal API//EN
BEGIN:VEVENT
DTSTAMP;VALUE=DATE-TIME:20260424T081914Z
DTSTART;VALUE=DATE-TIME:20120911T070000Z
DTEND;VALUE=DATE-TIME:20121009T150000Z
UID:https://eot.su/node/12887
URL;VALUE=URI:https://eot.su/node/12887
SUMMARY:Фотовыставка «20 лет без СССР» в Архангельске
DESCRIPTION:<p>Фотовыставка &laquo\;20 лет без СССР&raquo\; будет проходить c 11 сентября по 9 октября в городе Архангельске в областной научной библиотеке им. Н.А Добролюбова.</p>
 
END:VEVENT
BEGIN:VEVENT
DTSTAMP;VALUE=DATE-TIME:20260424T081914Z
DTSTART;VALUE=DATE-TIME:20120911T080000Z
DTEND;VALUE=DATE-TIME:20121005T180000Z
UID:https://eot.su/node/12933
URL;VALUE=URI:https://eot.su/node/12933
SUMMARY:Фотовыставка «20 лет без СССР» в Северодвинске
DESCRIPTION:<p>Фотовыставка «20 лет без СССР» будет проходить c 11 сентября по 5 октября в городе Северодвинске\, Арх.\, обл.<br />
 В центральном универмаге г. Северодвинска по адресу ул. Ломоносова 81.<br />
 Тел справочной службы (8184) 50-11-11<br />
 <a href=\\"http\://centerum.net/arenda/cum/cum.html\\" title=\\"http\://centerum.net/arenda/cum/cum.html\\" rel=\\"nofollow\\">http\://centerum.net/arenda/cum/cum.html</a></p>
 <p>Экспозиция размещаться на 1-ом и 2-ом лестничном пролете.</p>
 <p>Время работы\: 11.00 до 21.00 без выходных\:</p>
 
END:VEVENT
BEGIN:VEVENT
DTSTAMP;VALUE=DATE-TIME:20260424T081914Z
DTSTART;VALUE=DATE-TIME:20121004T160000Z
DTEND;VALUE=DATE-TIME:20121004T160000Z
UID:https://eot.su/node/13084
URL;VALUE=URI:https://eot.su/node/13084
SUMMARY:Киноклуб ЭТЦ\: \\"Пятая печать\\"\, реж. Золтан Фабри
DESCRIPTION:<p>В четверг\, 4 октября\, состоится просмотр и обсуждение фильма Золтана Фабри<br />
 \\"Пятая печать\\".<br />
 (Венгрия\, 1976 год.)</p>
 <p>Начало в 19\:00.</p>
 <p>Адрес\: Вспольный переулок\, 21.<br />
 Запись по телефону +7 (495) 650-57-45.</p>
 
END:VEVENT
BEGIN:VEVENT
DTSTAMP;VALUE=DATE-TIME:20260424T081914Z
DTSTART;VALUE=DATE-TIME:20121005T070000Z
DTEND;VALUE=DATE-TIME:20121030T170000Z
UID:https://eot.su/node/13083
URL;VALUE=URI:https://eot.su/node/13083
SUMMARY:Фотовыставка «20 лет без СССР» в Екатеринбурге (Свердловске)
DESCRIPTION:<p>Фотовыставка пройдет с 5 октября по 30 ноября<br />
 В ЦК \\"Урал\\" (Студенческая\, 3) ежедневно\, с 10\:00 до 20\:00<br />
 <a href=\\"http\://vk.com/20yearsafter_ekb\\" title=\\"http\://vk.com/20yearsafter_ekb\\" rel=\\"nofollow\\">http\://vk.com/20yearsafter_ekb</a> - группа фотовыставки</p>
 
END:VEVENT
BEGIN:VEVENT
DTSTAMP;VALUE=DATE-TIME:20260424T081914Z
DTSTART;VALUE=DATE-TIME:20121005T080000Z
DTEND;VALUE=DATE-TIME:20121005T080000Z
UID:https://eot.su/node/13100
URL;VALUE=URI:https://eot.su/node/13100
SUMMARY:Пресс-конференция Йохана Бекмана
DESCRIPTION:<p>5 октября в 11-00 в Комсомольской Правде по адресу Старый Петровско-Разумовский проезд\, д.1/23\, стр.1. состоится пресс-конференция финского правозащитника\, антифашиста Йохана Бекмана.<br />
 Тема\: Ювенальная юстиция.</p>
 <p>Приглашаются все желающие.</p>
 
END:VEVENT
BEGIN:VEVENT
DTSTAMP;VALUE=DATE-TIME:20260424T081914Z
DTSTART;VALUE=DATE-TIME:20121011T150000Z
DTEND;VALUE=DATE-TIME:20121011T150000Z
UID:https://eot.su/node/13123
URL;VALUE=URI:https://eot.su/node/13123
SUMMARY:Заседание клуба \\"Содержательное единство\\" 11 октября
DESCRIPTION:<p>Заседание клуба \\"Содержательное единство\\" состоится 11 октября 2012 года.<br />
 Тема\: О развитии политической ситуации.</p>
 <p>Члены клуба \\"Суть времени\\" записываются на заседание через кураторов своих ячеек из Совета координаторов. Вход строго по записи.</p>
 
END:VEVENT
BEGIN:VEVENT
DTSTAMP;VALUE=DATE-TIME:20260424T081914Z
DTSTART;VALUE=DATE-TIME:20121018T160000Z
DTEND;VALUE=DATE-TIME:20121018T160000Z
UID:https://eot.su/node/13182
URL;VALUE=URI:https://eot.su/node/13182
SUMMARY:Киноклуб ЭТЦ\: \\"Стратегия паука\\"\, реж. Бернардо Бертолуччи
DESCRIPTION:<p>Завтра\, в четверг\, 18 октября\, состоится просмотр и обсуждение фильма Бернардо Бертолуччи<br />
 \\"Стратегия паука\\".<br />
 (Италия\, 1970 год.)</p>
 <p>Начало в 19\:00.</p>
 <p>Адрес\: Вспольный переулок\, 21.<br />
 Запись по телефону +7 (495) 650-57-45.</p>
 
END:VEVENT
BEGIN:VEVENT
DTSTAMP;VALUE=DATE-TIME:20260424T081914Z
DTSTART;VALUE=DATE-TIME:20121020T050000Z
DTEND;VALUE=DATE-TIME:20121110T170000Z
UID:https://eot.su/node/13200
URL;VALUE=URI:https://eot.su/node/13200
SUMMARY:Фотовыставка «20 лет без СССР» в Миассе (Челябинская обл.)
DESCRIPTION:<p>Фотовыставка «20 лет без СССР» будет проходить с 20 октября по 10 ноября в Детской школе искусств №2 города Миасса (Челябинская обл.) по адресу\:<br />
 г. Миасс\, ул. Степана Разина\, 2.<br />
 Выставка будет работать ежедневно кроме воскресенья\,<br />
 с 8-00 до 20-00.<br />
 Телефон для справок 8 (950) 741-01-41.</p>
 
END:VEVENT
BEGIN:VEVENT
DTSTAMP;VALUE=DATE-TIME:20260424T081914Z
DTSTART;VALUE=DATE-TIME:20121023T120000Z
DTEND;VALUE=DATE-TIME:20121102T150000Z
UID:https://eot.su/node/13158
URL;VALUE=URI:https://eot.su/node/13158
SUMMARY:Фотовыставка «20 лет без СССР» в Твери
DESCRIPTION:<p>С 23 октября по 2 ноября в Твери в музейно-выставочном центр им. Лизы Чайкиной\, ул. Салтыкова-Щедрина\, 16\, будет проходить фотовыставка \\"20 лет без СССР\\" .<br />
 Время посещения с 10\:00 до 18\:00 (кроме вскр. и пнд.).<br />
 Открытие выставки 23 октября в 15\:00. </p>
 
END:VEVENT
BEGIN:VEVENT
DTSTAMP;VALUE=DATE-TIME:20260424T081914Z
DTSTART;VALUE=DATE-TIME:20121025T150000Z
DTEND;VALUE=DATE-TIME:20121025T150000Z
UID:https://eot.su/node/13235
URL;VALUE=URI:https://eot.su/node/13235
SUMMARY:Заседание клуба \\"Содержательное единство\\" 25 октября
DESCRIPTION:<p>Заседание клуба \\"Содержательное единство\\" состоится 25 октября 2012 года.<br />
 Тема\: Презентация газеты \\"Суть времени\\".<br />
 Динамика политической ситуации.</p>
 <p>Члены клуба \\"Суть времени\\" записываются на заседание через кураторов своих ячеек из Совета координаторов. Вход строго по записи.</p>
 
END:VEVENT
BEGIN:VEVENT
DTSTAMP;VALUE=DATE-TIME:20260424T081914Z
DTSTART;VALUE=DATE-TIME:20121028T090000Z
DTEND;VALUE=DATE-TIME:20121028T090000Z
UID:https://eot.su/node/13297
URL;VALUE=URI:https://eot.su/node/13297
SUMMARY:«Ювенальная юстиция и коммерциализация образования» - заседание Брянского дискуссионного клуба.
DESCRIPTION:<p>Заседание Брянского дискуссионного клуба  «Ювенальная юстиция и коммерциализация образования»   состоится 28.10.2012. Начало в 12\:00 по Москве.<br />
 Прямая трансляция по каналу <a href=\\"http\://yatv.ru/MeetingRoom/\\" title=\\"http\://yatv.ru/MeetingRoom/\\" rel=\\"nofollow\\">http\://yatv.ru/MeetingRoom/</a>.</p>
 
END:VEVENT
END:VCALENDAR
