BEGIN:VCALENDAR
VERSION:2.0
METHOD:PUBLISH
X-WR-CALNAME:Суть времени |  ноября 05 2013- декабря 05 2013
PRODID:-//strange bird labs//Drupal iCal API//EN
BEGIN:VEVENT
DTSTAMP;VALUE=DATE-TIME:20260422T170658Z
DTSTART;VALUE=DATE-TIME:20131129T150000Z
DTEND;VALUE=DATE-TIME:20131129T170000Z
UID:https://eot.su/node/16359
URL;VALUE=URI:https://eot.su/node/16359
SUMMARY:Гражданский дискуссионный клуб \\"Россия\\" (прямая трансляция на eot.su) С.Кургинян против И.Чубайса
DESCRIPTION:нет
END:VEVENT
END:VCALENDAR
