BEGIN:VCALENDAR
VERSION:2.0
METHOD:PUBLISH
X-WR-CALNAME:Суть времени |  мая 04 2015- мая 11 2015 | Фильтр\: 
PRODID:-//strange bird labs//Drupal iCal API//EN
BEGIN:VEVENT
DTSTAMP;VALUE=DATE-TIME:20260424T172640Z
DTSTART;VALUE=DATE-TIME:20150509T140000Z
DTEND;VALUE=DATE-TIME:20150509T140000Z
UID:https://eot.su/node/18692
URL;VALUE=URI:https://eot.su/node/18692
SUMMARY:Праздничный концерт 9 мая в Хабаровске.
DESCRIPTION:<p>Концерт состоится на сцене набережной площадки \\"Ракушка\\"\, рядом с утёсом.  Начало в 17.00</p>
 
END:VEVENT
END:VCALENDAR
