BEGIN:VCALENDAR
VERSION:2.0
METHOD:PUBLISH
X-WR-CALNAME:Суть времени |  июля 01 2015- июля 31 2015
PRODID:-//strange bird labs//Drupal iCal API//EN
BEGIN:VEVENT
DTSTAMP;VALUE=DATE-TIME:20260419T234626Z
DTSTART;VALUE=DATE-TIME:20150701T195000Z
DTEND;VALUE=DATE-TIME:20150701T195000Z
UID:https://eot.su/node/18969
URL;VALUE=URI:https://eot.su/node/18969
SUMMARY:Сергей Кургинян в программе \\"Специальный корреспондент\\" на канале \\"Россия-1\\". 1 июля 2015 года
DESCRIPTION:<p> 1 июля\, \\"Специальный корреспондент\\" с участием Сергея Кургиняна на канале \\"Россия-1\\".<br />
 <iframe src=\\"//www.youtube.com/embed/W_JY61tdmTI?rel=1&amp\;autoplay=0&amp\;wmode=opaque\\" width=\\"480\\" height=\\"295\\" class=\\"video-filter video-youtube video-center vf-wjy61tdmti\\" frameborder=\\"0\\"></iframe></p>
 
END:VEVENT
BEGIN:VEVENT
DTSTAMP;VALUE=DATE-TIME:20260419T234626Z
DTSTART;VALUE=DATE-TIME:20150702T120000Z
DTEND;VALUE=DATE-TIME:20150702T120000Z
UID:https://eot.su/node/18973
URL;VALUE=URI:https://eot.su/node/18973
SUMMARY:В четверг в 15\:00 Сергей Кургинян в программе \\"Время покажет\\" на \\"Первом канале\\"
DESCRIPTION:<p>2 июля\, в четверг\, в 15\:00 смотрите программу \\"Время покажет\\" с участием Сергея Кургиняна на \\"Первом канале\\".</p>
 
END:VEVENT
BEGIN:VEVENT
DTSTAMP;VALUE=DATE-TIME:20260419T234626Z
DTSTART;VALUE=DATE-TIME:20150703T160000Z
DTEND;VALUE=DATE-TIME:20150703T190000Z
UID:https://eot.su/node/18882
URL;VALUE=URI:https://eot.su/node/18882
SUMMARY:Музыкальный клуб ИСКАТЕЛИ ЖЕМЧУГА\: Немецкая классическая музыка
DESCRIPTION:<p><span>Приглашаем на вечер немецкой классической музыки. Иоганн Себастьян <strong>Бах</strong>\, Людвиг ван <strong>Бетховен</strong> и Вольфганг Амадей <strong>Моцарт</strong> &mdash\; произведения этих великих немецких композиторов ждут нас в программе вечера.</span></p>
 
END:VEVENT
BEGIN:VEVENT
DTSTAMP;VALUE=DATE-TIME:20260419T234626Z
DTSTART;VALUE=DATE-TIME:20150710T121500Z
DTEND;VALUE=DATE-TIME:20150710T121500Z
UID:https://eot.su/node/18994
URL;VALUE=URI:https://eot.su/node/18994
SUMMARY:Сегодня в 15\:15 Сергей Кургинян в программе \\"Время покажет\\" на \\"Первом канале\\"
DESCRIPTION:<p>Сегодня\, в пятницу\, 10 июля 2015 года\, на \\"Первом канале\\" смотрите программу \\"Время покажет\\" с участием Сергея Кургиняна. Начало в 15\:15.</p>
 
END:VEVENT
BEGIN:VEVENT
DTSTAMP;VALUE=DATE-TIME:20260419T234626Z
DTSTART;VALUE=DATE-TIME:20150711T091800Z
DTEND;VALUE=DATE-TIME:20150730T091800Z
UID:https://eot.su/node/18997
URL;VALUE=URI:https://eot.su/node/18997
SUMMARY:Выставка \\"Пионеры дальнего космоса. Будущее глазами юности\\" в Сургуте.
DESCRIPTION:<p>Проект призван не только раскрыть художественный и сочинительский талант ребят\, но и пробудить у участников и зрителей интерес к изучению отечественной истории покорения космоса в ХХ веке.<br />
 <a href=\\"https\://vk.com/port.surgut?z=photo-28289042_373304014%2Falbum-28289042_168800349%2Frev\\" title=\\"https\://vk.com/port.surgut?z=photo-28289042_373304014%2Falbum-28289042_168800349%2Frev\\" rel=\\"nofollow\\">https\://vk.com/port.surgut?z=photo-28289042_373304...</a></p>
 
END:VEVENT
BEGIN:VEVENT
DTSTAMP;VALUE=DATE-TIME:20260419T234626Z
DTSTART;VALUE=DATE-TIME:20150712T080000Z
DTEND;VALUE=DATE-TIME:20150712T173000Z
UID:https://eot.su/node/19001
URL;VALUE=URI:https://eot.su/node/19001
SUMMARY:Второй съезд РВС
END:VEVENT
END:VCALENDAR
