BEGIN:VCALENDAR
VERSION:2.0
METHOD:PUBLISH
X-WR-CALNAME:Суть времени |  марта 07 2016- марта 14 2016 | Фильтр\: 
PRODID:-//strange bird labs//Drupal iCal API//EN
BEGIN:VEVENT
DTSTAMP;VALUE=DATE-TIME:20260423T082221Z
DTSTART;VALUE=DATE-TIME:20160309T163000Z
DTEND;VALUE=DATE-TIME:20160309T190000Z
UID:https://eot.su/node/21520
URL;VALUE=URI:https://eot.su/node/21520
SUMMARY:Дискуссионно-философский клуб \\"Суть времени\\"
DESCRIPTION:<div class=\\"rtecenter\\">
 	<strong>Тема\: &laquo\;Особенности развития капитализма в конце XX и XXI веке&raquo\;.</strong><br />
 	&nbsp\;</div>
 
END:VEVENT
END:VCALENDAR
