BEGIN:VCALENDAR
VERSION:2.0
METHOD:PUBLISH
X-WR-CALNAME:Суть времени |  марта 21 2016- марта 28 2016 | Фильтр\: 
PRODID:-//strange bird labs//Drupal iCal API//EN
BEGIN:VEVENT
DTSTAMP;VALUE=DATE-TIME:20260423T183302Z
DTSTART;VALUE=DATE-TIME:20160323T163000Z
DTEND;VALUE=DATE-TIME:20160323T190000Z
UID:https://eot.su/node/21523
URL;VALUE=URI:https://eot.su/node/21523
SUMMARY:Дискуссионно-философский клуб \\"Суть времени\\"
DESCRIPTION:<div class=\\"rtecenter\\">
 	<strong>Тема\: &laquo\;Изъятие социальной проблематики из современного культурного дискурса&raquo\;</strong></div>
 <p></p>
 <div class=\\"rtejustify\\">
 </div>
END:VEVENT
BEGIN:VEVENT
DTSTAMP;VALUE=DATE-TIME:20260423T183302Z
DTSTART;VALUE=DATE-TIME:20160324T150000Z
DTEND;VALUE=DATE-TIME:20160324T150000Z
UID:https://eot.su/node/21585
URL;VALUE=URI:https://eot.su/node/21585
SUMMARY:Литературная встреча в Санкт-Петербургском государственном университете. Тема\: Судьба России в творчестве А. Блока
DESCRIPTION:<p>В четверг\, 24 марта 2016 г. состоится выездное заседание <a href=\\"http\://vk.com/literden\\" rel=\\"nofollow\\">Литературного клуба Ленинградской ячейки Движения &laquo\;Суть времени&raquo\;</a>\, посвященное творчеству А.А. Блока. Встреча пройдет во Дворце культуры и науки СПбГУ в студенческом городке (Петергоф).</p>
 <div class=\\"rtecenter\\">
 </div>
END:VEVENT
BEGIN:VEVENT
DTSTAMP;VALUE=DATE-TIME:20260423T183302Z
DTSTART;VALUE=DATE-TIME:20160327T110000Z
DTEND;VALUE=DATE-TIME:20160327T110000Z
UID:https://eot.su/node/21593
URL;VALUE=URI:https://eot.su/node/21593
SUMMARY:Дискуссионный клуб\: Консерватизм в политике США 20 века
DESCRIPTION:<p>В воскресенье 27 марта в Библиотеке № 1 Приморского района Санкт-Петербурга состоится очередное собрание <a href=\\"http\://vk.com/event40809998\\" rel=\\"nofollow\\">Дискуссионного клуба</a>. Тема\: &quot\;Консерватизм в политике США 20 века&quot\;.</p>
 
END:VEVENT
END:VCALENDAR
