BEGIN:VCALENDAR
VERSION:2.0
METHOD:PUBLISH
X-WR-CALNAME:Суть времени |  декабря 05 2016- декабря 12 2016 | Фильтр\: 
PRODID:-//strange bird labs//Drupal iCal API//EN
BEGIN:VEVENT
DTSTAMP;VALUE=DATE-TIME:20260424T063207Z
DTSTART;VALUE=DATE-TIME:20161209T160000Z
DTEND;VALUE=DATE-TIME:20161209T190000Z
UID:https://eot.su/node/22077
URL;VALUE=URI:https://eot.su/node/22077
SUMMARY:Литературный клуб ЛАБИРИНТЫ\: Гоголь
DESCRIPTION:<p>Этот год в нашем клубе посвящен русским писателям XIX века. Следующий в очереди на обсуждение &mdash\; Николай Васильевич <strong>Гоголь</strong>.</p>
 <p><span>Встреча пройдет\:</span></p>
 
END:VEVENT
END:VCALENDAR
