BEGIN:VCALENDAR
VERSION:2.0
METHOD:PUBLISH
X-WR-CALNAME:Суть времени |  февраля 20 2017- февраля 27 2017 | Фильтр\: 
PRODID:-//strange bird labs//Drupal iCal API//EN
BEGIN:VEVENT
DTSTAMP;VALUE=DATE-TIME:20260420T183000Z
DTSTART;VALUE=DATE-TIME:20170220T201500Z
DTEND;VALUE=DATE-TIME:20170220T201500Z
UID:https://eot.su/node/22302
URL;VALUE=URI:https://eot.su/node/22302
SUMMARY:Сегодня в 23\:15 Сергей Кургинян в программе \\"Вечер с Владимиром Соловьевым\\" на канале \\"Россия 1\\"
DESCRIPTION:<p>Сегодня\, 20 февраля\, смотрите программу \\"Вечер с Владимиром Соловьевым\\" на канале \\"Россия 1\\" с участием Сергея Кургиняна.<br />
 Начало в 23\:15.</p>
 
END:VEVENT
END:VCALENDAR
