BEGIN:VCALENDAR
VERSION:2.0
METHOD:PUBLISH
X-WR-CALNAME:Суть времени |  апреля 03 2017- апреля 10 2017 | Фильтр\: 
PRODID:-//strange bird labs//Drupal iCal API//EN
BEGIN:VEVENT
DTSTAMP;VALUE=DATE-TIME:20260423T141731Z
DTSTART;VALUE=DATE-TIME:20170407T160000Z
DTEND;VALUE=DATE-TIME:20170407T190000Z
UID:https://eot.su/node/22314
URL;VALUE=URI:https://eot.su/node/22314
SUMMARY:Литературный клуб ЛАБИРИНТЫ\: Толстой
DESCRIPTION:<p>Год\, посвященный русским писателям XIX века\, продолжает Лев Николаевич&nbsp\;<strong>Толстой</strong>.</p>
 <p><span>Встреча пройдет\:</span></p>
 
END:VEVENT
END:VCALENDAR
