BEGIN:VCALENDAR
VERSION:2.0
METHOD:PUBLISH
X-WR-CALNAME:Суть времени |  апреля 10 2017- апреля 17 2017 | Фильтр\: 
PRODID:-//strange bird labs//Drupal iCal API//EN
BEGIN:VEVENT
DTSTAMP;VALUE=DATE-TIME:20260423T143831Z
DTSTART;VALUE=DATE-TIME:20170412T160000Z
DTEND;VALUE=DATE-TIME:20170412T190000Z
UID:https://eot.su/node/22315
URL;VALUE=URI:https://eot.su/node/22315
SUMMARY:Музыкальный клуб ИСКАТЕЛИ ЖЕМЧУГА\: Бардовская музыка
DESCRIPTION:<p><span>Слушаем\, исполняем и обсуждаем бардовскую музыку.</span></p>
 <p><span>Встреча пройдет\:</span></p>
 <ul>
 <li>
 </li></ul>
END:VEVENT
END:VCALENDAR
