BEGIN:VCALENDAR
VERSION:2.0
METHOD:PUBLISH
X-WR-CALNAME:Суть времени |  мая 29 2017- июня 05 2017
PRODID:-//strange bird labs//Drupal iCal API//EN
BEGIN:VEVENT
DTSTAMP;VALUE=DATE-TIME:20260423T191342Z
DTSTART;VALUE=DATE-TIME:20170529T154000Z
DTEND;VALUE=DATE-TIME:20170529T154000Z
UID:https://eot.su/node/22506
URL;VALUE=URI:https://eot.su/node/22506
SUMMARY:Сегодня в 18\:40 Сергей Кургинян в программе \\"Первая студия\\" на \\"Первом канале\\"
DESCRIPTION:<p>Сегодня\, 29 мая\, смотрите программу \\"Первая студия\\" на \\"Первом канале\\" с участием Сергея Кургиняна. Начало в 18\:40.</p>
 
END:VEVENT
BEGIN:VEVENT
DTSTAMP;VALUE=DATE-TIME:20260423T191342Z
DTSTART;VALUE=DATE-TIME:20170601T154000Z
DTEND;VALUE=DATE-TIME:20170601T154000Z
UID:https://eot.su/node/22512
URL;VALUE=URI:https://eot.su/node/22512
SUMMARY:Сегодня в 18\:40 Сергей Кургинян в программе \\"Первая студия\\" на \\"Первом канале\\"
DESCRIPTION:<p>Сегодня\, 1 июня\, смотрите программу \\"Первая студия\\" на \\"Первом канале\\" с участием Сергея Кургиняна. Начало в 18\:40.</p>
 
END:VEVENT
BEGIN:VEVENT
DTSTAMP;VALUE=DATE-TIME:20260423T191342Z
DTSTART;VALUE=DATE-TIME:20170601T203000Z
DTEND;VALUE=DATE-TIME:20170601T203000Z
UID:https://eot.su/node/22508
URL;VALUE=URI:https://eot.su/node/22508
SUMMARY:В четверг\, 1 июня\, Сергей Кургинян в программе \\"Поединок\\" на канале \\"Россия-1\\"
DESCRIPTION:<p>В четверг\, 1 июня\, смотрите программу \\"Поединок\\" на канале \\"Россия-1\\" с участием Сергея Кургиняна. Начало в 23\:30.</p>
 
END:VEVENT
BEGIN:VEVENT
DTSTAMP;VALUE=DATE-TIME:20260423T191342Z
DTSTART;VALUE=DATE-TIME:20170602T102000Z
DTEND;VALUE=DATE-TIME:20170602T102000Z
UID:https://eot.su/node/22516
URL;VALUE=URI:https://eot.su/node/22516
SUMMARY:Сегодня в 13\:20 Сергей Кургинян в программе \\"Время покажет\\" на \\"Первом канале\\"
DESCRIPTION:<p>Сегодня\, 2 июня\, смотрите программу \\"Время покажет\\" на \\"Первом канале\\" с участием Сергея Кургиняна. Начало в 13\:20.</p>
 
END:VEVENT
BEGIN:VEVENT
DTSTAMP;VALUE=DATE-TIME:20260423T191342Z
DTSTART;VALUE=DATE-TIME:20170604T190000Z
DTEND;VALUE=DATE-TIME:20170604T190000Z
UID:https://eot.su/node/22518
URL;VALUE=URI:https://eot.su/node/22518
SUMMARY:Сегодня в 22\:00 Сергей Кургинян в программе \\"Воскресный вечер с Владимиром Соловьевым\\" на канале \\"Россия 1\\"
DESCRIPTION:<p>Сегодня\, 4 июня\, смотрите программу \\"Воскресный вечер с Владимиром Соловьевым\\" на канале \\"Россия 1\\" с участием Сергея Кургиняна. Начало в 22\:00.</p>
 
END:VEVENT
END:VCALENDAR
