BEGIN:VCALENDAR
VERSION:2.0
METHOD:PUBLISH
X-WR-CALNAME:Суть времени |  июня 12 2017- июня 19 2017 | Фильтр\: 
PRODID:-//strange bird labs//Drupal iCal API//EN
BEGIN:VEVENT
DTSTAMP;VALUE=DATE-TIME:20260424T100159Z
DTSTART;VALUE=DATE-TIME:20170616T160000Z
DTEND;VALUE=DATE-TIME:20170616T190000Z
UID:https://eot.su/node/22463
URL;VALUE=URI:https://eot.su/node/22463
SUMMARY:Литературный клуб ЛАБИРИНТЫ\: Чехов
DESCRIPTION:<p>Год\, посвященный русским писателям XIX века\, завершает Антон Павлович <b>Чехов</b>.</p>
 <p><span>Встреча пройдет\:</span></p>
 
END:VEVENT
END:VCALENDAR
