BEGIN:VCALENDAR
VERSION:2.0
METHOD:PUBLISH
X-WR-CALNAME:Суть времени |  июня 19 2017- июня 26 2017 | Фильтр\: 
PRODID:-//strange bird labs//Drupal iCal API//EN
BEGIN:VEVENT
DTSTAMP;VALUE=DATE-TIME:20260424T083931Z
DTSTART;VALUE=DATE-TIME:20170621T160000Z
DTEND;VALUE=DATE-TIME:20170621T190000Z
UID:https://eot.su/node/22464
URL;VALUE=URI:https://eot.su/node/22464
SUMMARY:Музыкальный клуб ИСКАТЕЛИ ЖЕМЧУГА\: Современная музыка
DESCRIPTION:<p><span>Слушаем\, исполняем и обсуждаем современную музыку.</span></p>
 <p><span>Встреча пройдет\:</span></p>
 <ul>
 <li>
 </li></ul>
END:VEVENT
END:VCALENDAR
