BEGIN:VCALENDAR
VERSION:2.0
METHOD:PUBLISH
X-WR-CALNAME:Суть времени |  июня 22 2017- июля 22 2017 | Фильтр\: 
PRODID:-//strange bird labs//Drupal iCal API//EN
BEGIN:VEVENT
DTSTAMP;VALUE=DATE-TIME:20260424T155351Z
DTSTART;VALUE=DATE-TIME:20170626T160000Z
DTEND;VALUE=DATE-TIME:20170626T190000Z
UID:https://eot.su/node/22466
URL;VALUE=URI:https://eot.su/node/22466
SUMMARY:Киноклуб ПРОТИВ ТЕЧЕНИЯ\: Фильмы Алехандро Иньярриту
DESCRIPTION:<p>В этом сезоне посмотрим и обсудим фильмы современного мексиканского режиссера <strong>Алехандро Гонсалеса Иньярриту</strong>.</p>
 
END:VEVENT
BEGIN:VEVENT
DTSTAMP;VALUE=DATE-TIME:20260424T155351Z
DTSTART;VALUE=DATE-TIME:20170630T160000Z
DTEND;VALUE=DATE-TIME:20170630T190000Z
UID:https://eot.su/node/22465
URL;VALUE=URI:https://eot.su/node/22465
SUMMARY:Театральный клуб КУЛЬТБАТ•АВАНГАРД\: «Дон Карлос» (Шиллер)
DESCRIPTION:<p>В рамках года классического европейского театра ставим драму&nbsp\;<strong>Фридриха Шиллера</strong> &laquo\;<strong><em>Дон Карлос\, инфант испанский</em></strong>&raquo\;.</p>
 <p><span>Встреча пройдет\:</span></p>
 
END:VEVENT
END:VCALENDAR
