BEGIN:VCALENDAR
VERSION:2.0
METHOD:PUBLISH
X-WR-CALNAME:Суть времени |  июля 11 2017- Августа 10 2017
PRODID:-//strange bird labs//Drupal iCal API//EN
BEGIN:VEVENT
DTSTAMP;VALUE=DATE-TIME:20260424T191950Z
DTSTART;VALUE=DATE-TIME:20170730T184500Z
DTEND;VALUE=DATE-TIME:20170730T184500Z
UID:https://eot.su/node/22558
URL;VALUE=URI:https://eot.su/node/22558
SUMMARY:Сегодня в 21\:45 Сергей Кургинян в программе \\"Воскресный вечер с Владимиром Соловьевым\\"
DESCRIPTION:<p>Сегодня\, 30 июля\, смотрите передачу  \\"Воскресный вечер с Владимиром Соловьевым\\" с участием Сергея Кургиняна на канале \\"Россия 1\\". Начало в 21\:45.</p>
 
END:VEVENT
END:VCALENDAR
