BEGIN:VCALENDAR
VERSION:2.0
METHOD:PUBLISH
X-WR-CALNAME:Суть времени |  апреля 16 2018- мая 16 2018
PRODID:-//strange bird labs//Drupal iCal API//EN
BEGIN:VEVENT
DTSTAMP;VALUE=DATE-TIME:20260425T164157Z
DTSTART;VALUE=DATE-TIME:20180421T160000Z
DTEND;VALUE=DATE-TIME:20180421T160000Z
UID:https://eot.su/node/22759
URL;VALUE=URI:https://eot.su/node/22759
SUMMARY:21 апреля спектакль «Кто слышит пролитую кровь» в театре «На досках»!
DESCRIPTION:<div class=\\"rtejustify\\">
 	21 апреля в 19\:00 спектакль &laquo\;Кто слышит пролитую кровь&raquo\; в театре &laquo\;На досках&raquo\;!<br />
 	Запись на мероприятие по телефону\: 8 (495) 650-57-45.<br />
 	Адрес\: Вспольный переулок\, 21.
 </div>
END:VEVENT
BEGIN:VEVENT
DTSTAMP;VALUE=DATE-TIME:20260425T164157Z
DTSTART;VALUE=DATE-TIME:20180428T170000Z
DTEND;VALUE=DATE-TIME:20180428T170000Z
UID:https://eot.su/node/22771
URL;VALUE=URI:https://eot.su/node/22771
SUMMARY:28 апреля спектакль молодежной студии \\"Пушкин. Бесы\\" в театре \\"На досках\\"!
DESCRIPTION:<p>В субботу\, 28 апреля\, в 20\:00 Студия Московского театра \\"На досках\\" приглашает на спектакль по произведениям А.С.Пушкина. Запись по телефону (495) 650-57-45.</p>
 <p>Адрес\: Вспольный переулок\, 21.</p>
 <p>Композиция по мистическим произведениям А.С.Пушкина\: </p>
 
END:VEVENT
BEGIN:VEVENT
DTSTAMP;VALUE=DATE-TIME:20260425T164157Z
DTSTART;VALUE=DATE-TIME:20180508T160000Z
DTEND;VALUE=DATE-TIME:20180508T160000Z
UID:https://eot.su/node/22781
URL;VALUE=URI:https://eot.su/node/22781
SUMMARY:Завтра\, 8 мая\, праздничный концерт и кинопоказ в честь Победы в Великой Отечественной войне
DESCRIPTION:<p>\\"Суть времени\\" приглашает вас на праздничное мероприятие\, посвященное 9 мая!</p>
 <p>В рамках мероприятия - песенно-поэтический вечер\, показ фильма о Великой Отечественной войне и обсуждение. Вход по записи.<br />
 Начало в 19\:00.</p>
 <p>Запись на мероприятие по ссылке\: <a href=\\"https\://docs.google.com/forms/d/1paTMtgIfmE2tNP9LZOeSbVL4w21_d88iEKykjp8s5hI/\\" title=\\"https\://docs.google.com/forms/d/1paTMtgIfmE2tNP9LZOeSbVL4w21_d88iEKykjp8s5hI/\\" rel=\\"nofollow\\">https\://docs.google.com/forms/d/1paTMtgIfmE2tNP9LZ...</a></p>
 
END:VEVENT
BEGIN:VEVENT
DTSTAMP;VALUE=DATE-TIME:20260425T164157Z
DTSTART;VALUE=DATE-TIME:20180515T160000Z
DTEND;VALUE=DATE-TIME:20180515T160000Z
UID:https://eot.su/node/22776
URL;VALUE=URI:https://eot.su/node/22776
SUMMARY:15 МАЯ В ТЕАТРЕ \\"НА ДОСКАХ\\" – СПЕКТАКЛЬ \\"Я!\\"
DESCRIPTION:<p>Начало в 19\:00. После спектакля состоится режиссера театра со зрителями.<br />
 Вспольный переулок\, 21.<br />
 Запись на мероприятие по тел. (495) 650-57-45.</p>
 <p>Спектакль представляет собой инсценировку первой части повести Ф. М. Достоевского &laquo\;Записки из подполья&raquo\;.</p>
 
END:VEVENT
END:VCALENDAR
