BEGIN:VCALENDAR
VERSION:2.0
METHOD:PUBLISH
X-WR-CALNAME:Суть времени |  сентября 21 2018- октября 21 2018
PRODID:-//strange bird labs//Drupal iCal API//EN
BEGIN:VEVENT
DTSTAMP;VALUE=DATE-TIME:20260424T104843Z
DTSTART;VALUE=DATE-TIME:20180922T160000Z
DTEND;VALUE=DATE-TIME:20180922T160000Z
UID:https://eot.su/node/22847
URL;VALUE=URI:https://eot.su/node/22847
SUMMARY:22 CЕНТЯБРЯ В ТЕАТРЕ «НА ДОСКАХ» ПРЕМЬЕРА СПЕКТАКЛЯ «ПАСТЫРЬ»!
DESCRIPTION:<p>22 сентября\, в субботу состоится премьера спектакля «Пастырь». Начало в 19.00.<br />
 По окончании спектакля – встреча главного режиссера театра со зрителями.</p>
 <p>Запись на мероприятия театра и заказ билетов по тел. (495) 650-57-45.<br />
 Адрес\: Вспольный переулок\, 21</p>
 
END:VEVENT
BEGIN:VEVENT
DTSTAMP;VALUE=DATE-TIME:20260424T104843Z
DTSTART;VALUE=DATE-TIME:20181004T201500Z
DTEND;VALUE=DATE-TIME:20020203
UID:https://eot.su/node/22894
URL;VALUE=URI:https://eot.su/node/22894
SUMMARY:4.10.2018 Сергей Кургинян в программе \\"Вечер с Владимиром Соловьевым\\" на канале \\"Россия-1\\"
DESCRIPTION:<p><iframe src=\\"//www.youtube.com/embed/ps5U5dOOTe0?rel=1&amp\;autoplay=0&amp\;wmode=opaque\\" width=\\"480\\" height=\\"295\\" class=\\"video-filter video-youtube vf-ps5u5doote0\\" frameborder=\\"0\\"></iframe></p>
 <p>Реплики <a href=\\"https\://youtu.be/ps5U5dOOTe0?t=1076\\" rel=\\"nofollow\\">17\:56</a><br />
 Реплики <a href=\\"https\://youtu.be/ps5U5dOOTe0?t=2784\\" rel=\\"nofollow\\">46\:24</a></p>
 
END:VEVENT
BEGIN:VEVENT
DTSTAMP;VALUE=DATE-TIME:20260424T104843Z
DTSTART;VALUE=DATE-TIME:20181006T160000Z
DTEND;VALUE=DATE-TIME:20181006T160000Z
UID:https://eot.su/node/22895
URL;VALUE=URI:https://eot.su/node/22895
SUMMARY:7 ОКТЯБРЯ В ТЕАТРЕ «НА ДОСКАХ» СПЕКТАКЛЬ «ПАСТЫРЬ»
DESCRIPTION:<p><iframe src=\\"//www.youtube.com/embed/KaX6Azog6-s?rel=1&amp\;autoplay=0&amp\;wmode=opaque\\" width=\\"480\\" height=\\"295\\" class=\\"video-filter video-youtube video-center vf-kax6azog6s\\" frameborder=\\"0\\"></iframe></p>
 
END:VEVENT
BEGIN:VEVENT
DTSTAMP;VALUE=DATE-TIME:20260424T104843Z
DTSTART;VALUE=DATE-TIME:20181006T160000Z
DTEND;VALUE=DATE-TIME:20181006T160000Z
UID:https://eot.su/node/22872
URL;VALUE=URI:https://eot.su/node/22872
SUMMARY:6 ОКТЯБРЯ В ТЕАТРЕ «НА ДОСКАХ» ПРЕМЬЕРА СПЕКТАКЛЯ «ПАСТЫРЬ»!
DESCRIPTION:<p>6 октября\, в субботу\, приглашаем всех увидеть мистерию\, повествующую о формировании личности лидера Советского государства - Иосифа Сталина!</p>
 <p>⏳Начало спектакля в 19\:00.</p>
 <p>По окончании спектакля зрителей ждет традиционная встреча с главным режиссером театра.<br />
 ☎Запись и справки по телефону (495) 650-57-45.<br />
 Адрес\: Вспольный пер.\, 21.</p>
 
END:VEVENT
BEGIN:VEVENT
DTSTAMP;VALUE=DATE-TIME:20260424T104843Z
DTSTART;VALUE=DATE-TIME:20181007T160000Z
DTEND;VALUE=DATE-TIME:20181007T160000Z
UID:https://eot.su/node/22873
URL;VALUE=URI:https://eot.su/node/22873
SUMMARY:7 ОКТЯБРЯ В ТЕАТРЕ «НА ДОСКАХ» ПРЕМЬЕРА СПЕКТАКЛЯ «ПАСТЫРЬ»!
DESCRIPTION:<p>7 октября\, в воскресенье\, приглашаем всех увидеть мистерию\, повествующую о формировании личности лидера Советского государства - Иосифа Сталина!</p>
 <p>⏳Начало спектакля в 19\:00.</p>
 <p>По окончании спектакля зрителей ждет традиционная встреча с главным режиссером театра.<br />
 ☎Запись и справки по телефону (495) 650-57-45.<br />
 Адрес\: Вспольный пер.\, 21.</p>
 
END:VEVENT
BEGIN:VEVENT
DTSTAMP;VALUE=DATE-TIME:20260424T104843Z
DTSTART;VALUE=DATE-TIME:20181013T160000Z
DTEND;VALUE=DATE-TIME:20181013T160000Z
UID:https://eot.su/node/22885
URL;VALUE=URI:https://eot.su/node/22885
SUMMARY:13 ОКТЯБРЯ В ТЕАТРЕ «НА ДОСКАХ» ПРЕМЬЕРА СПЕКТАКЛЯ «ЗЁРНА»!
DESCRIPTION:<p>
 13 октября\, в субботу\, приглашаем всех увидеть новый спектакль &laquo\;Зёрна&raquo\; - поэтическую притчу о поражении и победе (по мотивам повести Антуана де Сент-Экзюпери &laquo\;Военный летчик&raquo\;).</p>
 <p>⏳Начало спектакля в 19\:00.</p>
 <p>По окончании спектакля зрителей ждет традиционная встреча с главным режиссером театра.</p>
 
END:VEVENT
BEGIN:VEVENT
DTSTAMP;VALUE=DATE-TIME:20260424T104843Z
DTSTART;VALUE=DATE-TIME:20181014T160000Z
DTEND;VALUE=DATE-TIME:20181014T160000Z
UID:https://eot.su/node/22886
URL;VALUE=URI:https://eot.su/node/22886
SUMMARY:14 ОКТЯБРЯ В ТЕАТРЕ «НА ДОСКАХ» ПРЕМЬЕРА СПЕКТАКЛЯ «ЗЁРНА»!
DESCRIPTION:<p>14 октября\, в воскресенье\, приглашаем всех увидеть новый спектакль &laquo\;Зёрна&raquo\; - поэтическую притчу о поражении и победе (по мотивам повести Антуана де Сент-Экзюпери &laquo\;Военный летчик&raquo\;).</p>
 <p>⏳Начало спектакля в 19\:00.</p>
 <p>По окончании спектакля зрителей ждет традиционная встреча с главным режиссером театра.</p>
 
END:VEVENT
END:VCALENDAR
