BEGIN:VCALENDAR
VERSION:2.0
METHOD:PUBLISH
X-WR-CALNAME:Суть времени |  ноября 24 2018- декабря 24 2018
PRODID:-//strange bird labs//Drupal iCal API//EN
BEGIN:VEVENT
DTSTAMP;VALUE=DATE-TIME:20260421T182005Z
DTSTART;VALUE=DATE-TIME:20181127T160000Z
DTEND;VALUE=DATE-TIME:20181127T160000Z
UID:https://eot.su/node/22932
URL;VALUE=URI:https://eot.su/node/22932
SUMMARY:27 НОЯБРЯ В ТЕАТРЕ \\"НА ДОСКАХ\\" – СПЕКТАКЛЬ \\"ЭКЗЕРСИСЫ\\"
DESCRIPTION:<p>Запись на мероприятие и справки по телефону (495) 650-57-45.</p>
 <p>Метафизический триптих по произведениям А.С.Пушкина\, Н.В.Гоголя\, А.П.Чехова. Стихи Ф.И.Тютчева.<br />
 Вторник\, 27 ноября\, начало в 19\:00.<br />
 Постановка и тексты интермедий Сергея Кургиняна.<br />
 По окончании спектакля &ndash\; беседа со зрителями.</p>
 
END:VEVENT
BEGIN:VEVENT
DTSTAMP;VALUE=DATE-TIME:20260421T182005Z
DTSTART;VALUE=DATE-TIME:20181130T160000Z
DTEND;VALUE=DATE-TIME:20181130T160000Z
UID:https://eot.su/node/22933
URL;VALUE=URI:https://eot.su/node/22933
SUMMARY:30 НОЯБРЯ В ТЕАТРЕ \\"НА ДОСКАХ\\" – ПРЕМЬЕРА СПЕКТАКЛЯ \\"ЗЁРНА\\"!
DESCRIPTION:<p>&quot\;Зёрна&quot\; - поэтическая притча о поражении и победе (по мотивам повести Антуана де Сент-Экзюпери &quot\;Военный летчик&quot\;).<br />
 Начало в 19.00.</p>
 <p>Май 1940 года. Франция разгромлена и оккупирована фашистскими войсками. Все пронизано духом поражения.</p>
 
END:VEVENT
BEGIN:VEVENT
DTSTAMP;VALUE=DATE-TIME:20260421T182005Z
DTSTART;VALUE=DATE-TIME:20181204T160000Z
DTEND;VALUE=DATE-TIME:20181204T160000Z
UID:https://eot.su/node/22937
URL;VALUE=URI:https://eot.su/node/22937
SUMMARY:4 ДЕКАБРЯ В ТЕАТРЕ «НА ДОСКАХ» – «КТО СЛЫШИТ ПРОЛИТУЮ КРОВЬ»!
DESCRIPTION:<p>4 декабря\, во вторник\, в театре &quot\;На досках&quot\; состоится спектакль &quot\;Кто слышит пролитую кровь&quot\; - премьера прошлого сезона.</p>
 <p>Начало в 19.00.</p>
 
END:VEVENT
BEGIN:VEVENT
DTSTAMP;VALUE=DATE-TIME:20260421T182005Z
DTSTART;VALUE=DATE-TIME:20181215T160000Z
DTEND;VALUE=DATE-TIME:20181215T160000Z
UID:https://eot.su/node/22949
URL;VALUE=URI:https://eot.su/node/22949
SUMMARY:15 ДЕКАБРЯ В ТЕАТРЕ «НА ДОСКАХ» – СПЕКТАКЛЬ «Я!»
DESCRIPTION:<p>Начало в 19\:00. После спектакля состоится беседа главного режиссера театра со зрителями.<br />
 Вспольный переулок\, 21.<br />
 Запись на мероприятие по тел. (495) 650-57-45.</p>
 <p>Спектакль представляет собой инсценировку первой части повести Ф. М. Достоевского &laquo\;Записки из подполья&raquo\;.</p>
 
END:VEVENT
BEGIN:VEVENT
DTSTAMP;VALUE=DATE-TIME:20260421T182005Z
DTSTART;VALUE=DATE-TIME:20181218T160000Z
DTEND;VALUE=DATE-TIME:20181218T160000Z
UID:https://eot.su/node/22950
URL;VALUE=URI:https://eot.su/node/22950
SUMMARY:18 ДЕКАБРЯ В ТЕАТРЕ «НА ДОСКАХ» – ПРЕМЬЕРА СПЕКТАКЛЯ «ЗЁРНА»
DESCRIPTION:<p>Начало в 19\:00. После спектакля состоится беседа главного режиссера театра со зрителями.<br />
 Вспольный переулок\, 21.<br />
 Запись на мероприятие по тел. (495) 650-57-45.</p>
 <p>Май 1940 года. Франция разгромлена и оккупирована фашистскими войсками. Все пронизано духом поражения.</p>
 
END:VEVENT
BEGIN:VEVENT
DTSTAMP;VALUE=DATE-TIME:20260421T182005Z
DTSTART;VALUE=DATE-TIME:20181221T160000Z
DTEND;VALUE=DATE-TIME:20181221T160000Z
UID:https://eot.su/node/22951
URL;VALUE=URI:https://eot.su/node/22951
SUMMARY:21 ДЕКАБРЯ\, В ДЕНЬ РОЖДЕНИЯ И.В.СТАЛИНА\, В ТЕАТРЕ «НА ДОСКАХ» – ПРЕМЬЕРА СПЕКТАКЛЯ «ПАСТЫРЬ»
DESCRIPTION:<p>Начало в 19\:00. После спектакля состоится беседа главного режиссера театра со зрителями.<br />
 Вспольный переулок\, 21.<br />
 Запись на мероприятие по тел. (495) 650-57-45.</p>
 
END:VEVENT
END:VCALENDAR
