BEGIN:VCALENDAR
VERSION:2.0
METHOD:PUBLISH
X-WR-CALNAME:Суть времени |  декабря 14 2019- января 13 2020
PRODID:-//strange bird labs//Drupal iCal API//EN
BEGIN:VEVENT
DTSTAMP;VALUE=DATE-TIME:20260426T041115Z
DTSTART;VALUE=DATE-TIME:20191214T160000Z
DTEND;VALUE=DATE-TIME:20191214T160000Z
UID:https://eot.su/node/23159
URL;VALUE=URI:https://eot.su/node/23159
SUMMARY:14 ДЕКАБРЯ В ТЕАТРЕ «НА ДОСКАХ» – СПЕКТАКЛЬ «ЖДУ ЛЮБВИ»
DESCRIPTION:<p>14 декабря\, в субботу\, в театре &laquo\;На досках&raquo\; состоится спектакль &laquo\;Жду любви&raquo\;.<br />
 Начало в 19\:00.<br />
 После спектакля в фойе театра состоится беседа главного режиссера со зрителями.<br />
 Заказ билетов и справки по телефону (495) 650-57-45.<br />
 Адрес\: Вспольный переулок\, дом 21.</p>
 
END:VEVENT
BEGIN:VEVENT
DTSTAMP;VALUE=DATE-TIME:20260426T041115Z
DTSTART;VALUE=DATE-TIME:20191221T160000Z
DTEND;VALUE=DATE-TIME:20191221T160000Z
UID:https://eot.su/node/23160
URL;VALUE=URI:https://eot.su/node/23160
SUMMARY:21 ДЕКАБРЯ В ТЕАТРЕ «НА ДОСКАХ» – СПЕКТАКЛЬ «СТЕНОГРАММА»
DESCRIPTION:<p>21 декабря\, в субботу\, в День рождения И.В.Сталина\, в Московском театре &laquo\;На досках&raquo\; состоится спектакль &laquo\;Стенограмма&raquo\;.<br />
 Начало в 19\:00.<br />
 Запись на мероприятие по тел. (495) 650-57-45.<br />
 Адрес\: Вспольный пер.\, 21.</p>
 <p>Спектакль &laquo\;Стенограмма&raquo\; создан Сергеем Кургиняном по материалам XV партийной конференции ВКП (б) 1926 года.</p>
 
END:VEVENT
BEGIN:VEVENT
DTSTAMP;VALUE=DATE-TIME:20260426T041115Z
DTSTART;VALUE=DATE-TIME:20191224T160000Z
DTEND;VALUE=DATE-TIME:20191224T160000Z
UID:https://eot.su/node/23161
URL;VALUE=URI:https://eot.su/node/23161
SUMMARY:24 ДЕКАБРЯ В ТЕАТРЕ «НА ДОСКАХ» – СПЕКТАКЛЬ «ЭКЗЕРСИСЫ»
DESCRIPTION:<p>24 декабря\, во вторник\, в Московском театре &laquo\;На досках&raquo\; состоится спектакль &laquo\;Экзерсисы&raquo\;.<br />
 Запись на спектакли и мероприятия театра по телефону\: (495) 650-57-45<br />
 Начало в 19\:00<br />
 Адрес\: Вспольный переулок\, 21</p>
 <p>Спектакль &laquo\;Экзерсисы&raquo\; - метафизический триптих по произведениям А.С. Пушкина\, Н.В. Гоголя\, А.П. Чехова.</p>
 
END:VEVENT
END:VCALENDAR
