BEGIN:VCALENDAR
VERSION:2.0
METHOD:PUBLISH
X-WR-CALNAME:Суть времени |  января 28 2020- февраля 27 2020
PRODID:-//strange bird labs//Drupal iCal API//EN
BEGIN:VEVENT
DTSTAMP;VALUE=DATE-TIME:20260419T170057Z
DTSTART;VALUE=DATE-TIME:20200202T120000Z
DTEND;VALUE=DATE-TIME:20200202T120000Z
UID:https://eot.su/node/23208
URL;VALUE=URI:https://eot.su/node/23208
SUMMARY:2 ФЕВРАЛЯ - КИНОКЛУБ И ВСТРЕЧА С РЕЖИССЕРОМ АЛЕКСАНДРОМ НЕГРЕБОЙ В ТЕАТРЕ «НА ДОСКАХ»
DESCRIPTION:<p>Приглашаем всех желающих на просмотр фильма &laquo\;Король Лир&raquo\; по одноименной трагедии В.Шекспира\, режиссер Александр Алексеев-Негреба. После просмотра состоится творческая встреча с режиссером и актерами.</p>
 
END:VEVENT
BEGIN:VEVENT
DTSTAMP;VALUE=DATE-TIME:20260419T170057Z
DTSTART;VALUE=DATE-TIME:20200216T160000Z
DTEND;VALUE=DATE-TIME:20200216T160000Z
UID:https://eot.su/node/23209
URL;VALUE=URI:https://eot.su/node/23209
SUMMARY:16 ФЕВРАЛЯ В ТЕАТРЕ «НА ДОСКАХ» - СПЕКТАКЛЬ «ЗЁРНА»
DESCRIPTION:<p>В воскресенье\, 16 февраля\, в 19\:00 состоится спектакль &laquo\;Зёрна&raquo\;.<br />
 Запись на спектакли и мероприятия театра по телефону\: (495) 650-57-45<br />
 Адрес\: Вспольный переулок\, 21</p>
 <p>Спектакль &laquo\;Зёрна&raquo\; &ndash\; поэтическая притча о поражении и победе.<br />
 Создан Сергеем Кургиняном по мотивам повести Антуана де Сент-Экзюпери &laquo\;Военный летчик&raquo\;.</p>
 
END:VEVENT
BEGIN:VEVENT
DTSTAMP;VALUE=DATE-TIME:20260419T170057Z
DTSTART;VALUE=DATE-TIME:20200218T160000Z
DTEND;VALUE=DATE-TIME:20200218T160000Z
UID:https://eot.su/node/23210
URL;VALUE=URI:https://eot.su/node/23210
SUMMARY:18 ФЕВРАЛЯ В ТЕАТРЕ «НА ДОСКАХ» – СПЕКТАКЛЬ «Я!»
DESCRIPTION:<p>Во вторник\, 18 февраля\, в 19\:00 состоится спектакль &laquo\;Я!&raquo\;<br />
 Запись на спектакли и мероприятия театра по телефону\: (495) 650-57-45<br />
 Адрес\: Вспольный переулок\, 21</p>
 <p>Спектакль &laquo\;Я!&raquo\; представляет собой инсценировку первой части повести Ф.М.Достоевского &laquo\;Записки из подполья&raquo\;.</p>
 
END:VEVENT
END:VCALENDAR
