BEGIN:VCALENDAR
VERSION:2.0
METHOD:PUBLISH
X-WR-CALNAME:Суть времени |  февраля 24 2020- марта 25 2020
PRODID:-//strange bird labs//Drupal iCal API//EN
BEGIN:VEVENT
DTSTAMP;VALUE=DATE-TIME:20260420T013540Z
DTSTART;VALUE=DATE-TIME:20200227T160000Z
DTEND;VALUE=DATE-TIME:20200227T160000Z
UID:https://eot.su/node/23211
URL;VALUE=URI:https://eot.su/node/23211
SUMMARY:27 ФЕВРАЛЯ В ТЕАТРЕ «НА ДОСКАХ» – СПЕКТАКЛЬ «КРОТ»
DESCRIPTION:<p>27 февраля\, в четверг\, в театре &laquo\;На досках&raquo\; состоится спектакль &laquo\;Крот&raquo\;.<br />
 Начало в 19\:00. После спектакля состоится беседа главного режиссера театра со зрителями.<br />
 Адрес\: Вспольный переулок\, 21.<br />
 Запись на мероприятие по тел. (495) 650-57-45.</p>
 <p>Спектакль &laquo\;Крот&raquo\; &ndash\; это мистериальное странствие в лабиринтах истории.</p>
 
END:VEVENT
BEGIN:VEVENT
DTSTAMP;VALUE=DATE-TIME:20260420T013540Z
DTSTART;VALUE=DATE-TIME:20200229T160000Z
DTEND;VALUE=DATE-TIME:20200229T160000Z
UID:https://eot.su/node/23212
URL;VALUE=URI:https://eot.su/node/23212
SUMMARY:29 ФЕВРАЛЯ В ТЕАТРЕ «НА ДОСКАХ» - СПЕКТАКЛЬ «ЖДУ ЛЮБВИ»
DESCRIPTION:<p>В субботу\, 29 февраля\, в 19\:00 в театре &laquo\;На досках&raquo\; состоится спектакль &laquo\;Жду любви&raquo\;.<br />
 Запись на спектакли и мероприятия театра по телефону\: (495) 650-57-45<br />
 Адрес\: Вспольный переулок\, 21</p>
 
END:VEVENT
BEGIN:VEVENT
DTSTAMP;VALUE=DATE-TIME:20260420T013540Z
DTSTART;VALUE=DATE-TIME:20200322T194000Z
DTEND;VALUE=DATE-TIME:20020203
UID:https://eot.su/node/23235
URL;VALUE=URI:https://eot.su/node/23235
SUMMARY:(Видео) 22.03.2020 Сергей Кургинян в программе \\"Вечер с Владимиром Соловьевым\\" на канале \\"Россия-1\\". Тема\: Коронавирус
DESCRIPTION:<p>Передача полностью<br />
 <iframe src=\\"//www.youtube.com/embed/j7Etsb79hGU?rel=1&amp\;autoplay=0&amp\;wmode=opaque\\" width=\\"480\\" height=\\"295\\" class=\\"video-filter video-youtube vf-j7etsb79hgu\\" frameborder=\\"0\\"></iframe></p>
 <p>Выступление Сергея Кургиняна<br />
 <iframe src=\\"//www.youtube.com/embed/UO28U36JGYc?rel=1&amp\;autoplay=0&amp\;wmode=opaque\\" width=\\"480\\" height=\\"295\\" class=\\"video-filter video-youtube vf-uo28u36jgyc\\" frameborder=\\"0\\"></iframe></p>
 
END:VEVENT
END:VCALENDAR
