BEGIN:VCALENDAR
VERSION:2.0
METHOD:PUBLISH
X-WR-CALNAME:Суть времени |  марта 16 2020- марта 23 2020
PRODID:-//strange bird labs//Drupal iCal API//EN
BEGIN:VEVENT
DTSTAMP;VALUE=DATE-TIME:20260426T003412Z
DTSTART;VALUE=DATE-TIME:20200322T194000Z
DTEND;VALUE=DATE-TIME:20020203
UID:https://eot.su/node/23235
URL;VALUE=URI:https://eot.su/node/23235
SUMMARY:(Видео) 22.03.2020 Сергей Кургинян в программе \\"Вечер с Владимиром Соловьевым\\" на канале \\"Россия-1\\". Тема\: Коронавирус
DESCRIPTION:<p>Передача полностью<br />
 <iframe src=\\"//www.youtube.com/embed/j7Etsb79hGU?rel=1&amp\;autoplay=0&amp\;wmode=opaque\\" width=\\"480\\" height=\\"295\\" class=\\"video-filter video-youtube vf-j7etsb79hgu\\" frameborder=\\"0\\"></iframe></p>
 <p>Выступление Сергея Кургиняна<br />
 <iframe src=\\"//www.youtube.com/embed/UO28U36JGYc?rel=1&amp\;autoplay=0&amp\;wmode=opaque\\" width=\\"480\\" height=\\"295\\" class=\\"video-filter video-youtube vf-uo28u36jgyc\\" frameborder=\\"0\\"></iframe></p>
 
END:VEVENT
END:VCALENDAR
