BEGIN:VCALENDAR
VERSION:2.0
METHOD:PUBLISH
X-WR-CALNAME:Суть времени |  мая 18 2020- мая 25 2020
PRODID:-//strange bird labs//Drupal iCal API//EN
BEGIN:VEVENT
DTSTAMP;VALUE=DATE-TIME:20260426T014053Z
DTSTART;VALUE=DATE-TIME:20200524T194000Z
DTEND;VALUE=DATE-TIME:20020203
UID:https://eot.su/node/23265
URL;VALUE=URI:https://eot.su/node/23265
SUMMARY:(Видео) 24.05.2020 Сергей Кургинян в программе \\"Воскресный вечер с Владимиром Соловьевым\\" на канале \\"Россия-1\\". Тема\: Украина
DESCRIPTION:<p><iframe src=\\"//www.youtube.com/embed/sgt9GUEpdF8?rel=1&amp\;autoplay=0&amp\;wmode=opaque\\" width=\\"480\\" height=\\"295\\" class=\\"video-filter video-youtube vf-sgt9guepdf8\\" frameborder=\\"0\\"></iframe></p>
 
END:VEVENT
END:VCALENDAR
