BEGIN:VCALENDAR
VERSION:2.0
METHOD:PUBLISH
X-WR-CALNAME:Суть времени |  марта 26 2021- апреля 25 2021
PRODID:-//strange bird labs//Drupal iCal API//EN
BEGIN:VEVENT
DTSTAMP;VALUE=DATE-TIME:20260419T141226Z
DTSTART;VALUE=DATE-TIME:20210327T160000Z
DTEND;VALUE=DATE-TIME:20210327T160000Z
UID:https://eot.su/node/23440
URL;VALUE=URI:https://eot.su/node/23440
SUMMARY:27 МАРТА В ТЕАТРЕ «НА ДОСКАХ» – СПЕКТАКЛЬ «ДРУГОЙ»
DESCRIPTION:<p>В субботу\, 27 марта\, в 19\:00 в театре &laquo\;На досках&raquo\; состоится спектакль &laquo\;Другой&raquo\;.<br />
 Запись на мероприятия театра и заказ билетов по тел. 8 (901) 525 39 73 и 8 (495) 650 57 45<br />
 Адрес\: Вспольный переулок\, 21</p>
 
END:VEVENT
BEGIN:VEVENT
DTSTAMP;VALUE=DATE-TIME:20260419T141226Z
DTSTART;VALUE=DATE-TIME:20210328T160000Z
DTEND;VALUE=DATE-TIME:20210328T160000Z
UID:https://eot.su/node/23441
URL;VALUE=URI:https://eot.su/node/23441
SUMMARY:28 МАРТА В ТЕАТРЕ «НА ДОСКАХ» - СПЕКТАКЛЬ «ЖДУ ЛЮБВИ»
DESCRIPTION:<p>В воскресенье\, 28 марта\, в 19\:00 в театре «На досках» состоится спектакль «Жду любви».<br />
 Запись на спектакли и мероприятия театра по телефону\: 8 (495) 650-57-45\, 8 (901) 525-39-73<br />
 Адрес\: Вспольный переулок\, 21</p>
 
END:VEVENT
BEGIN:VEVENT
DTSTAMP;VALUE=DATE-TIME:20260419T141226Z
DTSTART;VALUE=DATE-TIME:20210331T160000Z
DTEND;VALUE=DATE-TIME:20210331T160000Z
UID:https://eot.su/node/23442
URL;VALUE=URI:https://eot.su/node/23442
SUMMARY:31 МАРТА В ТЕАТРЕ «НА ДОСКАХ» – СПЕКТАКЛЬ «ЭКЗЕРСИСЫ»
DESCRIPTION:<p>31 марта\, в среду\, в Московском театре «На досках» состоится спектакль «Экзерсисы».<br />
 Запись на спектакли и мероприятия театра по телефону\: (495) 650-57-45\, 8 (901) 525-39-73<br />
 Начало в 19\:00<br />
 Адрес\: Вспольный переулок\, 21</p>
 <p>Спектакль «Экзерсисы» - метафизический триптих по произведениям А.С. Пушкина\, Н.В. Гоголя\, А.П. Чехова.</p>
 
END:VEVENT
BEGIN:VEVENT
DTSTAMP;VALUE=DATE-TIME:20260419T141226Z
DTSTART;VALUE=DATE-TIME:20210402T133100Z
DTEND;VALUE=DATE-TIME:20210402T133100Z
UID:https://eot.su/node/23443
URL;VALUE=URI:https://eot.su/node/23443
SUMMARY:2 АПРЕЛЯ В ТЕАТРЕ «НА ДОСКАХ» – СПЕКТАКЛЬ «Я!»
DESCRIPTION:<p>В пятницу\, 2 апреля\, в 19\:00 состоится спектакль «Я!»<br />
 Запись на спектакли и мероприятия театра по телефонам\: 8 (495) 650-57-45\, 8 (901) 525-39-73<br />
 Адрес\: Вспольный переулок\, 21</p>
 <p>Спектакль «Я!» представляет собой инсценировку первой части повести Ф.М.Достоевского «Записки из подполья».</p>
 
END:VEVENT
BEGIN:VEVENT
DTSTAMP;VALUE=DATE-TIME:20260419T141226Z
DTSTART;VALUE=DATE-TIME:20210404T160000Z
DTEND;VALUE=DATE-TIME:20210404T160000Z
UID:https://eot.su/node/23444
URL;VALUE=URI:https://eot.su/node/23444
SUMMARY:4 АПРЕЛЯ В ТЕАТРЕ «НА ДОСКАХ» – СПЕКТАКЛЬ «ЗЁРНА»
DESCRIPTION:<p>Во воскресенье\, 4 апреля\, в 19\:00 состоится спектакль «Зёрна».<br />
 Запись на спектакли и мероприятия театра по телефонам\: 8 (495) 650-57-45\, 8 (901) 525-39-73<br />
 Адрес\: Вспольный переулок\, 21</p>
 <p>Спектакль создан Сергеем Кургиняном по мотивам повести Антуана де Сент-Экзюпери «Военный летчик».<br />
 Май 1940 года. Франция разгромлена и оккупирована фашистскими войсками. Все пронизано духом поражения.</p>
 
END:VEVENT
BEGIN:VEVENT
DTSTAMP;VALUE=DATE-TIME:20260419T141226Z
DTSTART;VALUE=DATE-TIME:20210407T160000Z
DTEND;VALUE=DATE-TIME:20210407T160000Z
UID:https://eot.su/node/23445
URL;VALUE=URI:https://eot.su/node/23445
SUMMARY:7 АПРЕЛЯ В ТЕАТРЕ «НА ДОСКАХ» – СПЕКТАКЛИ «БОЙ» и «БОЙ-2»
DESCRIPTION:<p>7 апреля\, в среду\, в Московском театре «На досках» - спектакль «Бой» и «Бой-2».<br />
 Метафизическая драма по рассказу Джека Лондона «Мексиканец».<br />
 По окончании спектакля – беседа со зрителями.</p>
 <p>Начало спектакля в 19\:00.<br />
 Запись по телефону +7 (495) 650-57-45\, 8 (901) 525-39-73.<br />
 Адрес\: Вспольный пер.\, 21.</p>
 <p>Спектакль состоит из двух частей\:<br />
 Часть 1</p>
 
END:VEVENT
END:VCALENDAR
