BEGIN:VCALENDAR
VERSION:2.0
METHOD:PUBLISH
X-WR-CALNAME:Суть времени |  ноября 28 2021- декабря 28 2021
PRODID:-//strange bird labs//Drupal iCal API//EN
BEGIN:VEVENT
DTSTAMP;VALUE=DATE-TIME:20260423T211841Z
DTSTART;VALUE=DATE-TIME:20211130T160000Z
DTEND;VALUE=DATE-TIME:20211130T160000Z
UID:https://eot.su/node/23578
URL;VALUE=URI:https://eot.su/node/23578
SUMMARY:30 НОЯБРЯ В ТЕАТРЕ «НА ДОСКАХ» – ПРЕМЬЕРА СПЕКТАКЛЯ «КОЛЫБЕЛЬ»
DESCRIPTION:<p>Во вторник\, 30 ноября\, в 19\:00 состоится ПРЕМЬЕРА спектакля &laquo\;Колыбель&raquo\;.<br />
 Форма для записи на спектакли\: <a href=\\"https\://clck.ru/VUbYz\\" rel=\\"nofollow\\">https\://clck.ru/VUbYz</a><br />
 Запись на спектакли и мероприятия театра по телефонам\: 8 (495) 650-57-45\, 8 (901) 525-39-73<br />
 Адрес\: Вспольный переулок\, 21</p>
 
END:VEVENT
BEGIN:VEVENT
DTSTAMP;VALUE=DATE-TIME:20260423T211841Z
DTSTART;VALUE=DATE-TIME:20211203T160000Z
DTEND;VALUE=DATE-TIME:20211203T160000Z
UID:https://eot.su/node/23579
URL;VALUE=URI:https://eot.su/node/23579
SUMMARY:3 ДЕКАБРЯ В ТЕАТРЕ «НА ДОСКАХ» – ПРЕМЬЕРА СПЕКТАКЛЯ «КОЛЫБЕЛЬ»
DESCRIPTION:<p>В пятницу\, 3 декабря\, в 19\:00 состоится ПРЕМЬЕРА спектакля &laquo\;Колыбель&raquo\;.<br />
 Форма для записи на спектакль\: <a href=\\"https\://clck.ru/VUbYz\\" rel=\\"nofollow\\">https\://clck.ru/VUbYz</a><br />
 Запись на спектакли и мероприятия театра по телефонам\: 8 (495) 650-57-45\, 8 (901) 525-39-73<br />
 Адрес\: Вспольный переулок\, 21</p>
 
END:VEVENT
BEGIN:VEVENT
DTSTAMP;VALUE=DATE-TIME:20260423T211841Z
DTSTART;VALUE=DATE-TIME:20211204T160000Z
DTEND;VALUE=DATE-TIME:20211204T160000Z
UID:https://eot.su/node/23580
URL;VALUE=URI:https://eot.su/node/23580
SUMMARY:4 ДЕКАБРЯ В ТЕАТРЕ «НА ДОСКАХ» – СПЕКТАКЛЬ «ЗЁРНА»
DESCRIPTION:<p>В субботу\, 4 декабря\, в 19\:00 состоится спектакль &laquo\;Зёрна&raquo\;.<br />
 Форма для записи на спектакли\: <a href=\\"https\://clck.ru/VUbYz\\" rel=\\"nofollow\\">https\://clck.ru/VUbYz</a><br />
 Запись на спектакли и мероприятия театра по телефонам\: 8 (495) 650-57-45\, 8 (901) 525-39-73<br />
 Адрес\: Вспольный переулок\, 21</p>
 
END:VEVENT
BEGIN:VEVENT
DTSTAMP;VALUE=DATE-TIME:20260423T211841Z
DTSTART;VALUE=DATE-TIME:20211214T160000Z
DTEND;VALUE=DATE-TIME:20211214T160000Z
UID:https://eot.su/node/23584
URL;VALUE=URI:https://eot.su/node/23584
SUMMARY:14 ДЕКАБРЯ В ТЕАТРЕ «НА ДОСКАХ» – СПЕКТАКЛЬ «КРОТ»
DESCRIPTION:<p>14 декабря\, во вторник\, в театре &laquo\;На досках&raquo\; состоится спектакль &laquo\;Крот&raquo\;.<br />
 Начало в 19\:00. После спектакля состоится беседа главного режиссера театра со зрителями.<br />
 Адрес\: Вспольный переулок\, 21.<br />
 Форма для записи на спектакль\: <a href=\\"https\://clck.ru/VUbYz\\" rel=\\"nofollow\\">https\://clck.ru/VUbYz</a></p>
 
END:VEVENT
BEGIN:VEVENT
DTSTAMP;VALUE=DATE-TIME:20260423T211841Z
DTSTART;VALUE=DATE-TIME:20211215T160000Z
DTEND;VALUE=DATE-TIME:20211215T160000Z
UID:https://eot.su/node/23585
URL;VALUE=URI:https://eot.su/node/23585
SUMMARY:15 ДЕКАБРЯ В ТЕАТРЕ «НА ДОСКАХ» – СПЕКТАКЛЬ «КРОТ»
DESCRIPTION:<p>15 декабря\, в среду\, в театре &laquo\;На досках&raquo\; состоится спектакль &laquo\;Крот&raquo\;.<br />
 Начало в 19\:00. После спектакля состоится беседа главного режиссера театра со зрителями.<br />
 Адрес\: Вспольный переулок\, 21.<br />
 Форма для записи на спектакль\: <a href=\\"https\://clck.ru/VUbYz\\" rel=\\"nofollow\\">https\://clck.ru/VUbYz</a></p>
 
END:VEVENT
BEGIN:VEVENT
DTSTAMP;VALUE=DATE-TIME:20260423T211841Z
DTSTART;VALUE=DATE-TIME:20211217T160000Z
DTEND;VALUE=DATE-TIME:20211217T160000Z
UID:https://eot.su/node/23587
URL;VALUE=URI:https://eot.su/node/23587
SUMMARY:17 ДЕКАБРЯ В ТЕАТРЕ «НА ДОСКАХ» – СПЕКТАКЛЬ «ЖДУ ЛЮБВИ»
DESCRIPTION:<p>В пятницу\, 17 декабря\, в 19\:00 в театре &laquo\;На досках&raquo\; состоится спектакль &laquo\;Жду любви&raquo\;.<br />
 Запись на спектакли и мероприятия театра по телефону\: 8 (901) 525-39-73\, 8 (495) 650-57-45<br />
 Форма для записи на спектакль\: <a href=\\"https\://clck.ru/VUbYz\\" rel=\\"nofollow\\">https\://clck.ru/VUbYz</a><br />
 Адрес\: Вспольный переулок\, 21</p>
 
END:VEVENT
END:VCALENDAR
