BEGIN:VCALENDAR
VERSION:2.0
METHOD:PUBLISH
X-WR-CALNAME:Суть времени |  Августа 13 2022- сентября 12 2022
PRODID:-//strange bird labs//Drupal iCal API//EN
BEGIN:VEVENT
DTSTAMP;VALUE=DATE-TIME:20260422T152230Z
DTSTART;VALUE=DATE-TIME:20220910T160000Z
DTEND;VALUE=DATE-TIME:20220910T160000Z
UID:https://eot.su/node/23764
URL;VALUE=URI:https://eot.su/node/23764
SUMMARY:10 СЕНТЯБРЯ - КОНЦЕРТ «МОСКВА В РУССКОЙ ЛИРИКЕ» В ТЕАТРЕ «НА ДОСКАХ»
DESCRIPTION:<p>«Москва в русской лирике» – так называется литературно-музыкальная композиция\, которую театр «На досках» представит 10 сентября в 19.00. Прозвучат стихи поэтов XVIII-XX веков.<br />
 Вход по записи по тел. +7-495-650-57-45\, +7-901-525-39-73 или через форму (<a href=\\"https\://na-doskah.wett.pw/form3/\\" title=\\"https\://na-doskah.wett.pw/form3/\\" rel=\\"nofollow\\">https\://na-doskah.wett.pw/form3/</a>).</p>
 
END:VEVENT
END:VCALENDAR
