BEGIN:VCALENDAR
VERSION:2.0
METHOD:PUBLISH
X-WR-CALNAME:Суть времени |  февраля 01 2023- марта 01 2023
PRODID:-//strange bird labs//Drupal iCal API//EN
BEGIN:VEVENT
DTSTAMP;VALUE=DATE-TIME:20260422T071125Z
DTSTART;VALUE=DATE-TIME:20230216T160000Z
DTEND;VALUE=DATE-TIME:20230216T160000Z
UID:https://eot.su/node/23862
URL;VALUE=URI:https://eot.su/node/23862
SUMMARY:16 ФЕВРАЛЯ В ТЕАТРЕ «НА ДОСКАХ» – СПЕКТАКЛЬ «ЭКЗЕРСИСЫ»
DESCRIPTION:<p>16 февраля\, в четверг\, в Московском театре «На досках» состоится спектакль «Экзерсисы».<br />
 Запись на спектакли и мероприятия театра по телефону\: 8 (901) 525-39-73\, 8 (495) 650-57-45<br />
 Форма для записи на спектакль\: <a href=\\"https\://na-doskah.wett.pw/form3/\\" title=\\"https\://na-doskah.wett.pw/form3/\\" rel=\\"nofollow\\">https\://na-doskah.wett.pw/form3/</a><br />
 Начало в 19\:00<br />
 Адрес\: Вспольный переулок\, 21</p>
 <p>Спектакль «Экзерсисы» - метафизический триптих по произведениям А.С. Пушкина\, Н.В. Гоголя\, А.П. Чехова.</p>
 
END:VEVENT
BEGIN:VEVENT
DTSTAMP;VALUE=DATE-TIME:20260422T071125Z
DTSTART;VALUE=DATE-TIME:20230219T160000Z
DTEND;VALUE=DATE-TIME:20230219T160000Z
UID:https://eot.su/node/23863
URL;VALUE=URI:https://eot.su/node/23863
SUMMARY:19 ФЕВРАЛЯ В ТЕАТРЕ «НА ДОСКАХ» — СПЕКТАКЛЬ «ЛОГОС» 
DESCRIPTION:<p>19 февраля\, в воскресенье\, в Московском театре «На досках» — премьера нового спектакля Сергея Кургиняна «Логос».<br />
 Продолжительность\: 3 часа без антракта.<br />
 Начало в 19\:00. После спектакля состоится беседа главного режиссера театра со зрителями.<br />
 Запись на спектакли и мероприятия театра по телефонам\: 8 (901) 525-39-73\, 8 (495) 650-57-45</p>
 
END:VEVENT
BEGIN:VEVENT
DTSTAMP;VALUE=DATE-TIME:20260422T071125Z
DTSTART;VALUE=DATE-TIME:20230221T160000Z
DTEND;VALUE=DATE-TIME:20230221T160000Z
UID:https://eot.su/node/23864
URL;VALUE=URI:https://eot.su/node/23864
SUMMARY:21 ФЕВРАЛЯ В ТЕАТРЕ «НА ДОСКАХ» – СПЕКТАКЛЬ «Я!»
DESCRIPTION:<p>21 февраля\, во вторник\, в Московском театре «На досках» состоится спектакль «Я!».<br />
 Запись на спектакли и мероприятия театра по телефону\: 8 (901) 525-39-73\, 8 (495) 650-57-45<br />
 Форма для записи на спектакль\: <a href=\\"https\://na-doskah.wett.pw/form3/\\" title=\\"https\://na-doskah.wett.pw/form3/\\" rel=\\"nofollow\\">https\://na-doskah.wett.pw/form3/</a><br />
 Начало в 19\:00<br />
 Адрес\: Вспольный переулок\, 21</p>
 <p>Спектакль «Я!» представляет собой инсценировку первой части повести Ф.М.Достоевского «Записки из подполья».</p>
 
END:VEVENT
BEGIN:VEVENT
DTSTAMP;VALUE=DATE-TIME:20260422T071125Z
DTSTART;VALUE=DATE-TIME:20230225T160000Z
DTEND;VALUE=DATE-TIME:20230225T160000Z
UID:https://eot.su/node/23865
URL;VALUE=URI:https://eot.su/node/23865
SUMMARY:25 ФЕВРАЛЯ В ТЕАТРЕ «НА ДОСКАХ» – СПЕКТАКЛЬ «ДРУГОЙ»
DESCRIPTION:<p>25 февраля\, в субботу\, в театре «На досках» состоится спектакль «Другой».<br />
 Начало в 19\:00. После спектакля состоится беседа главного режиссера театра со зрителями.</p>
 <p>Адрес\: Вспольный переулок\, 21.<br />
 Форма для записи на спектакль\: <a href=\\"https\://clck.ru/bVPki\\" title=\\"https\://clck.ru/bVPki\\" rel=\\"nofollow\\">https\://clck.ru/bVPki</a><br />
 Запись на мероприятие по тел. 8 (495) 650-57-45\, 8 (901) 525-39-73.</p>
 
END:VEVENT
BEGIN:VEVENT
DTSTAMP;VALUE=DATE-TIME:20260422T071125Z
DTSTART;VALUE=DATE-TIME:20230227T160000Z
DTEND;VALUE=DATE-TIME:20230227T160000Z
UID:https://eot.su/node/23866
URL;VALUE=URI:https://eot.su/node/23866
SUMMARY:27 ФЕВРАЛЯ В ТЕАТРЕ «НА ДОСКАХ» – СПЕКТАКЛЬ «ЗЁРНА»
DESCRIPTION:<p>В понедельник\, 27 февраля\, в 19\:00 в Московском театре «На досках» состоится спектакль «Зёрна».<br />
 Запись на спектакли и мероприятия театра по телефонам\: 8 (495) 650-57-45\, 8 (901) 525-39-73<br />
 Форма для записи на спектакль\: <a href=\\"https\://na-doskah.wett.pw/form3/\\" title=\\"https\://na-doskah.wett.pw/form3/\\" rel=\\"nofollow\\">https\://na-doskah.wett.pw/form3/</a><br />
 Адрес\: Вспольный переулок\, 21</p>
 <p>Спектакль создан Сергеем Кургиняном по мотивам повести Антуана де Сент-Экзюпери «Военный летчик».</p>
 
END:VEVENT
END:VCALENDAR
