BEGIN:VCALENDAR
VERSION:2.0
METHOD:PUBLISH
X-WR-CALNAME:Суть времени |  мая 17 2023- июня 16 2023
PRODID:-//strange bird labs//Drupal iCal API//EN
BEGIN:VEVENT
DTSTAMP;VALUE=DATE-TIME:20260423T155048Z
DTSTART;VALUE=DATE-TIME:20230520T160000Z
DTEND;VALUE=DATE-TIME:20230520T160000Z
UID:https://eot.su/node/23912
URL;VALUE=URI:https://eot.su/node/23912
SUMMARY:20 МАЯ В ТЕАТРЕ «НА ДОСКАХ» – СПЕКТАКЛЬ «СТЕНОГРАММА»
DESCRIPTION:<p>20 мая\, в субботу\, в Московском театре «На досках» состоится спектакль «Стенограмма».<br />
 Начало в 19\:00.<br />
 Запись на мероприятие по тел. (495) 650-57-45.<br />
 Адрес\: Вспольный пер.\, 21.</p>
 <p>Спектакль «Стенограмма» создан Сергеем Кургиняном по материалам XV партийной конференции ВКП (б) 1926 года.</p>
 
END:VEVENT
BEGIN:VEVENT
DTSTAMP;VALUE=DATE-TIME:20260423T155048Z
DTSTART;VALUE=DATE-TIME:20230522T160000Z
DTEND;VALUE=DATE-TIME:20230522T160000Z
UID:https://eot.su/node/23913
URL;VALUE=URI:https://eot.su/node/23913
SUMMARY:22 МАЯ В ТЕАТРЕ «НА ДОСКАХ» – СПЕКТАКЛЬ «ЗЁРНА»
DESCRIPTION:<p>В понедельник\, 22 мая\, в 19\:00 в Московском театре «На досках» состоится спектакль «Зёрна».<br />
 Запись на спектакли и мероприятия театра по телефонам\: 8 (495) 650-57-45\, 8 (901) 525-39-73<br />
 Форма для записи на спектакль\: <a href=\\"https\://na-doskah.wett.pw/form3/\\" title=\\"https\://na-doskah.wett.pw/form3/\\" rel=\\"nofollow\\">https\://na-doskah.wett.pw/form3/</a><br />
 Адрес\: Вспольный переулок\, 21</p>
 <p>Спектакль создан Сергеем Кургиняном по мотивам повести Антуана де Сент-Экзюпери «Военный летчик».</p>
 
END:VEVENT
BEGIN:VEVENT
DTSTAMP;VALUE=DATE-TIME:20260423T155048Z
DTSTART;VALUE=DATE-TIME:20230523T160000Z
DTEND;VALUE=DATE-TIME:20230523T160000Z
UID:https://eot.su/node/23914
URL;VALUE=URI:https://eot.su/node/23914
SUMMARY:23 МАЯ В ТЕАТРЕ «НА ДОСКАХ» – СПЕКТАКЛЬ «Я!»
DESCRIPTION:<p>23 мая\, во вторник\, в Московском театре «На досках» состоится спектакль «Я!».<br />
 Запись на спектакли и мероприятия театра по телефону\: 8 (901) 525-39-73\, 8 (495) 650-57-45<br />
 Форма для записи на спектакль\: <a href=\\"https\://na-doskah.wett.pw/form3/\\" title=\\"https\://na-doskah.wett.pw/form3/\\" rel=\\"nofollow\\">https\://na-doskah.wett.pw/form3/</a><br />
 Начало в 19\:00<br />
 Адрес\: Вспольный переулок\, 21</p>
 <p>Спектакль «Я!» представляет собой инсценировку первой части повести Ф.М.Достоевского «Записки из подполья».</p>
 
END:VEVENT
BEGIN:VEVENT
DTSTAMP;VALUE=DATE-TIME:20260423T155048Z
DTSTART;VALUE=DATE-TIME:20230527T160000Z
DTEND;VALUE=DATE-TIME:20230527T160000Z
UID:https://eot.su/node/23916
URL;VALUE=URI:https://eot.su/node/23916
SUMMARY:27 МАЯ В ТЕАТРЕ «НА ДОСКАХ» – СПЕКТАКЛЬ «КРОТ»
DESCRIPTION:<p>27 мая\, в субботу\, в театре «На досках» состоится спектакль «Крот».<br />
 Начало в 19\:00. После спектакля состоится беседа главного режиссера театра со зрителями.<br />
 Адрес\: Вспольный переулок\, 21.<br />
 Форма для записи на спектакль\: <a href=\\"https\://clck.ru/bVPki\\" title=\\"https\://clck.ru/bVPki\\" rel=\\"nofollow\\">https\://clck.ru/bVPki</a><br />
 Запись на мероприятие по тел. 8 (495) 650-57-45\, 8 (901) 525-39-73.</p>
 <p>Спектакль «Крот» – это мистериальное странствие в лабиринтах истории.</p>
 
END:VEVENT
BEGIN:VEVENT
DTSTAMP;VALUE=DATE-TIME:20260423T155048Z
DTSTART;VALUE=DATE-TIME:20230529T160000Z
DTEND;VALUE=DATE-TIME:20230529T160000Z
UID:https://eot.su/node/23917
URL;VALUE=URI:https://eot.su/node/23917
SUMMARY:29 МАЯ В ТЕАТРЕ «НА ДОСКАХ» – СПЕКТАКЛЬ «ЭКЗЕРСИСЫ»
DESCRIPTION:<p>29 мая\, в понедельник\, в Московском театре «На досках» состоится спектакль «Экзерсисы».<br />
 Запись на спектакли и мероприятия театра по телефону\: 8 (901) 525-39-73\, 8 (495) 650-57-45<br />
 Форма для записи на спектакль\: <a href=\\"https\://na-doskah.wett.pw/form3/\\" title=\\"https\://na-doskah.wett.pw/form3/\\" rel=\\"nofollow\\">https\://na-doskah.wett.pw/form3/</a><br />
 Начало в 19\:00<br />
 Адрес\: Вспольный переулок\, 21</p>
 <p>Спектакль «Экзерсисы» - метафизический триптих по произведениям А.С. Пушкина\, Н.В. Гоголя\, А.П. Чехова.</p>
 
END:VEVENT
END:VCALENDAR
