BEGIN:VCALENDAR
VERSION:2.0
METHOD:PUBLISH
X-WR-CALNAME:Суть времени |  марта 25 2024- апреля 24 2024
PRODID:-//strange bird labs//Drupal iCal API//EN
BEGIN:VEVENT
DTSTAMP;VALUE=DATE-TIME:20260420T040053Z
DTSTART;VALUE=DATE-TIME:20240413T160000Z
DTEND;VALUE=DATE-TIME:20240413T160000Z
UID:https://eot.su/node/24073
URL;VALUE=URI:https://eot.su/node/24073
SUMMARY:13 АПРЕЛЯ В ТЕАТРЕ «НА ДОСКАХ» – СПЕКТАКЛЬ «ЭКЗЕРСИСЫ»
DESCRIPTION:<p>13 апреля\, в субботу\, в Московском театре «На досках» состоится спектакль «Экзерсисы».<br />
 Запись на спектакли и мероприятия театра по телефону\: 8 (901) 525-39-73\, 8 (495) 650-57-45<br />
 Форма для записи на спектакль\: <a href=\\"https\://na-doskah.ru/form?spectacle=4655&amp\;utm=na-doskah\\" title=\\"https\://na-doskah.ru/form?spectacle=4655&amp\;utm=na-doskah\\" rel=\\"nofollow\\">https\://na-doskah.ru/form?spectacle=4655&amp\;utm=na-do...</a><br />
 Начало в 19\:00<br />
 Адрес\: Вспольный переулок\, 21</p>
 
END:VEVENT
BEGIN:VEVENT
DTSTAMP;VALUE=DATE-TIME:20260420T040053Z
DTSTART;VALUE=DATE-TIME:20240416T160000Z
DTEND;VALUE=DATE-TIME:20240416T160000Z
UID:https://eot.su/node/24074
URL;VALUE=URI:https://eot.su/node/24074
SUMMARY:16 АПРЕЛЯ В ТЕАТРЕ «НА ДОСКАХ» – СПЕКТАКЛЬ «ПАСТЫРЬ»
DESCRIPTION:<p>16 апреля\, во вторник\, в Московском театре «На досках» – спектакль «Пастырь».<br />
 Начало в 19\:00. После спектакля состоится беседа главного режиссера театра со зрителями.<br />
 Запись на спектакли и мероприятия театра по телефонам\: 8 (901) 525-39-73\, 8 (495) 650-57-45<br />
 Форма для записи на спектакль\: <a href=\\"https\://na-doskah.ru/form?spectacle=4657&amp\;utm=na-doskah\\" title=\\"https\://na-doskah.ru/form?spectacle=4657&amp\;utm=na-doskah\\" rel=\\"nofollow\\">https\://na-doskah.ru/form?spectacle=4657&amp\;utm=na-do...</a><br />
 Адрес\: Вспольный переулок\, 21</p>
 
END:VEVENT
BEGIN:VEVENT
DTSTAMP;VALUE=DATE-TIME:20260420T040053Z
DTSTART;VALUE=DATE-TIME:20240418T160000Z
DTEND;VALUE=DATE-TIME:20240418T160000Z
UID:https://eot.su/node/24075
URL;VALUE=URI:https://eot.su/node/24075
SUMMARY:18 АПРЕЛЯ В ТЕАТРЕ «НА ДОСКАХ» – СПЕКТАКЛЬ «Я!»
DESCRIPTION:<p>18 апреля\, в четверг\, в Московском театре «На досках» состоится спектакль «Я!».<br />
 Запись на спектакли и мероприятия театра по телефону\: 8 (901) 525-39-73\, 8 (495) 650-57-45<br />
 Форма для записи на спектакль\:https\://na-doskah.ru/form?spectacle=4659&amp\;utm=na-doskah<br />
 Начало в 19\:00<br />
 Адрес\: Вспольный переулок\, 21</p>
 
END:VEVENT
BEGIN:VEVENT
DTSTAMP;VALUE=DATE-TIME:20260420T040053Z
DTSTART;VALUE=DATE-TIME:20240420T160000Z
DTEND;VALUE=DATE-TIME:20240420T160000Z
UID:https://eot.su/node/24076
URL;VALUE=URI:https://eot.su/node/24076
SUMMARY:20 АПРЕЛЯ В ТЕАТРЕ «НА ДОСКАХ» – СПЕКТАКЛЬ «ЗЁРНА»
DESCRIPTION:<p>В четверг\, 20 апреля\, в 19\:00 в Московском театре «На досках» состоится спектакль «Зёрна».<br />
 Запись на спектакли и мероприятия театра по телефонам\: 8 (495) 650-57-45\, 8 (901) 525-39-73<br />
 Форма для записи на спектакль\: <a href=\\"https\://na-doskah.ru/form?spectacle=4661&amp\;utm=na-doskah\\" title=\\"https\://na-doskah.ru/form?spectacle=4661&amp\;utm=na-doskah\\" rel=\\"nofollow\\">https\://na-doskah.ru/form?spectacle=4661&amp\;utm=na-do...</a><br />
 Адрес\: Вспольный переулок\, 21</p>
 
END:VEVENT
BEGIN:VEVENT
DTSTAMP;VALUE=DATE-TIME:20260420T040053Z
DTSTART;VALUE=DATE-TIME:20240423T160000Z
DTEND;VALUE=DATE-TIME:20240423T160000Z
UID:https://eot.su/node/24077
URL;VALUE=URI:https://eot.su/node/24077
SUMMARY:23 АПРЕЛЯ В ТЕАТРЕ «НА ДОСКАХ» — СПЕКТАКЛЬ «СТРАСТИ ПО ЛЮБВИ»
DESCRIPTION:<p>23 апреля\, во вторник\, в Московском театре «На досках» — спектакль Сергея Кургиняна «Страсти по любви».</p>
 <p>Продолжительность\: 3 часа без антракта.</p>
 <p>Начало в 19\:00. После спектакля состоится беседа главного режиссера театра со зрителями.<br />
 Запись на спектакли и мероприятия театра по телефонам\: 8 (901) 525-39-73\, 8 (495) 650-57-45</p>
 
END:VEVENT
END:VCALENDAR
