BEGIN:VCALENDAR
VERSION:2.0
METHOD:PUBLISH
X-WR-CALNAME:Суть времени |  Августа 14 2024- сентября 13 2024
PRODID:-//strange bird labs//Drupal iCal API//EN
BEGIN:VEVENT
DTSTAMP;VALUE=DATE-TIME:20260425T040844Z
DTSTART;VALUE=DATE-TIME:20240908T160000Z
DTEND;VALUE=DATE-TIME:20240908T160000Z
UID:https://eot.su/node/24141
URL;VALUE=URI:https://eot.su/node/24141
SUMMARY:8 СЕНТЯБРЯ - КОНЦЕРТ «ИСТОРИЯ МОСКВЫ В РУССКОЙ КЛАССИКЕ» В ТЕАТРЕ «НА ДОСКАХ»
DESCRIPTION:<p>«История Москвы в русской классике» – так называется литературно-музыкальная композиция\, которую театр «На досках» представит 8 сентября в 19.00. Прозвучат стихи поэтов XVIII-XX веков.<br />
 Вход по записи по тел. +7-495-650-57-45\, +7-901-525-39-73 или через форму (<a href=\\"https\://na-doskah.ru/form?spectacle=5551&amp\;utm=na-doskah\\" title=\\"https\://na-doskah.ru/form?spectacle=5551&amp\;utm=na-doskah\\" rel=\\"nofollow\\">https\://na-doskah.ru/form?spectacle=5551&amp\;utm=na-do...</a>).</p>
 
END:VEVENT
END:VCALENDAR
