BEGIN:VCALENDAR
VERSION:2.0
METHOD:PUBLISH
X-WR-CALNAME:Суть времени |  марта 20 2025- апреля 19 2025
PRODID:-//strange bird labs//Drupal iCal API//EN
BEGIN:VEVENT
DTSTAMP;VALUE=DATE-TIME:20260421T163224Z
DTSTART;VALUE=DATE-TIME:20250320T160000Z
DTEND;VALUE=DATE-TIME:20250320T160000Z
UID:https://eot.su/node/24208
URL;VALUE=URI:https://eot.su/node/24208
SUMMARY:20 МАРТА В ТЕАТРЕ «НА ДОСКАХ» – СПЕКТАКЛЬ «ЭКЗЕРСИСЫ»
DESCRIPTION:<p>20 марта\, в четверг\, в Московском театре «На досках» состоится спектакль «Экзерсисы».<br />
 Запись на спектакли и мероприятия театра по телефону\: 8 (901) 525-39-73\, 8 (495) 650-57-45<br />
 Форма для записи на спектакль\: <a href=\\"https\://na-doskah.ru/form?spectacle=6131&amp\;utm=na-doskah\\" title=\\"https\://na-doskah.ru/form?spectacle=6131&amp\;utm=na-doskah\\" rel=\\"nofollow\\">https\://na-doskah.ru/form?spectacle=6131&amp\;utm=na-do...</a><br />
 Начало в 19\:00<br />
 Адрес\: Вспольный переулок\, 21.</p>
 
END:VEVENT
BEGIN:VEVENT
DTSTAMP;VALUE=DATE-TIME:20260421T163224Z
DTSTART;VALUE=DATE-TIME:20250322T160000Z
DTEND;VALUE=DATE-TIME:20250322T160000Z
UID:https://eot.su/node/24209
URL;VALUE=URI:https://eot.su/node/24209
SUMMARY:22 МАРТА В ТЕАТРЕ «НА ДОСКАХ» – СПЕКТАКЛЬ «Я!»
DESCRIPTION:<p>22 марта\, в субботу\, в Московском театре «На досках» состоится спектакль «Я!».<br />
 Запись на спектакли и мероприятия театра по телефону\: 8 (901) 525-39-73\, 8 (495) 650-57-45<br />
 Форма для записи на спектакль\: <a href=\\"https\://na-doskah.ru/form?spectacle=6133&amp\;utm=na-doskah\\" title=\\"https\://na-doskah.ru/form?spectacle=6133&amp\;utm=na-doskah\\" rel=\\"nofollow\\">https\://na-doskah.ru/form?spectacle=6133&amp\;utm=na-do...</a><br />
 Начало в 19\:00<br />
 Адрес\: Вспольный переулок\, 21</p>
 
END:VEVENT
BEGIN:VEVENT
DTSTAMP;VALUE=DATE-TIME:20260421T163224Z
DTSTART;VALUE=DATE-TIME:20250412T160000Z
DTEND;VALUE=DATE-TIME:20250412T160000Z
UID:https://eot.su/node/24217
URL;VALUE=URI:https://eot.su/node/24217
SUMMARY:12 АПРЕЛЯ В ТЕАТРЕ «НА ДОСКАХ» — СПЕКТАКЛЬ «СТРАСТИ ПО ЛЮБВИ»
DESCRIPTION:<p>12 апреля\, в субботу\, в Московском театре «На досках» — спектакль Сергея Кургиняна «Страсти по любви».</p>
 <p>Продолжительность\: 3 часа без антракта.</p>
 <p>Начало в 19\:00. После спектакля состоится беседа главного режиссера театра со зрителями.<br />
 Запись на спектакли и мероприятия театра по телефонам\: 8 (901) 525-39-73\, 8 (495) 650-57-45</p>
 
END:VEVENT
BEGIN:VEVENT
DTSTAMP;VALUE=DATE-TIME:20260421T163224Z
DTSTART;VALUE=DATE-TIME:20250414T160000Z
DTEND;VALUE=DATE-TIME:20250414T160000Z
UID:https://eot.su/node/24218
URL;VALUE=URI:https://eot.su/node/24218
SUMMARY:14 АПРЕЛЯ В ТЕАТРЕ «НА ДОСКАХ» – СПЕКТАКЛЬ «ЗЁРНА»
DESCRIPTION:<p>14 апреля\, в понедельник\, в 19\:00 в Московском театре «На досках» состоится спектакль «Зёрна».<br />
 Запись на спектакли и мероприятия театра по телефонам\: 8 (495) 650-57-45\, 8 (901) 525-39-73<br />
 Форма для записи на спектакль\: <a href=\\"https\://na-doskah.ru/form?spectacle=6189&amp\;utm=na-doskah\\" title=\\"https\://na-doskah.ru/form?spectacle=6189&amp\;utm=na-doskah\\" rel=\\"nofollow\\">https\://na-doskah.ru/form?spectacle=6189&amp\;utm=na-do...</a><br />
 Адрес\: Вспольный переулок\, 21</p>
 
END:VEVENT
BEGIN:VEVENT
DTSTAMP;VALUE=DATE-TIME:20260421T163224Z
DTSTART;VALUE=DATE-TIME:20250415T160000Z
DTEND;VALUE=DATE-TIME:20250415T160000Z
UID:https://eot.su/node/24219
URL;VALUE=URI:https://eot.su/node/24219
SUMMARY:15 АПРЕЛЯ В ТЕАТРЕ «НА ДОСКАХ» – СПЕКТАКЛЬ «Я!»
DESCRIPTION:<p>15 апреля\, во вторник\, в Московском театре «На досках» состоится спектакль «Я!».<br />
 Запись на спектакли и мероприятия театра по телефону\: 8 (901) 525-39-73\, 8 (495) 650-57-45<br />
 Форма для записи на спектакль\: <a href=\\"https\://na-doskah.ru/form?spectacle=6191&amp\;utm=na-doskah\\" title=\\"https\://na-doskah.ru/form?spectacle=6191&amp\;utm=na-doskah\\" rel=\\"nofollow\\">https\://na-doskah.ru/form?spectacle=6191&amp\;utm=na-do...</a><br />
 Начало в 19\:00<br />
 Адрес\: Вспольный переулок\, 21</p>
 
END:VEVENT
END:VCALENDAR
