BEGIN:VCALENDAR
VERSION:2.0
METHOD:PUBLISH
X-WR-CALNAME:Суть времени |  декабря 19 2025- января 18 2026
PRODID:-//strange bird labs//Drupal iCal API//EN
BEGIN:VEVENT
DTSTAMP;VALUE=DATE-TIME:20260422T035258Z
DTSTART;VALUE=DATE-TIME:20251220T160000Z
DTEND;VALUE=DATE-TIME:20251220T160000Z
UID:https://eot.su/node/24289
URL;VALUE=URI:https://eot.su/node/24289
SUMMARY:20 ДЕКАБРЯ В ТЕАТРЕ «НА ДОСКАХ» – СПЕКТАКЛЬ «СТАЛИНГРАД»
DESCRIPTION:<p>20 декабря\, в субботу\, в 19\:00 спектакль «Сталинград» в театре «На досках».<br />
 Продолжительность\: 3 часа без антракта.<br />
 Запись на спектакли и мероприятия театра по телефону\: 8 (901) 525-39-73\, 8 (495) 650-57-45<br />
 Форма для записи на спектакль\:https\://na-doskah.ru/form?spectacle=7569<br />
 Адрес\: Вспольный переулок\, 21</p>
 
END:VEVENT
BEGIN:VEVENT
DTSTAMP;VALUE=DATE-TIME:20260422T035258Z
DTSTART;VALUE=DATE-TIME:20260115T160000Z
DTEND;VALUE=DATE-TIME:20260115T160000Z
UID:https://eot.su/node/24294
URL;VALUE=URI:https://eot.su/node/24294
SUMMARY:15 ЯНВАРЯ В ТЕАТРЕ «НА ДОСКАХ» – СПЕКТАКЛИ «БОЙ» и «БОЙ-2»
DESCRIPTION:<p>15 января\, в четверг\, в Московском театре «На досках» – спектакль «Бой» и «Бой-2».<br />
 Метафизическая драма по рассказу Джека Лондона «Мексиканец».<br />
 По окончании спектакля – беседа со зрителями.</p>
 <p>Начало спектакля в 19\:00.<br />
 Форма для записи на спектакль\: <a href=\\"https\://na-doskah.ru/form?spectacle=7633\\" title=\\"https\://na-doskah.ru/form?spectacle=7633\\" rel=\\"nofollow\\">https\://na-doskah.ru/form?spectacle=7633</a><br />
 Запись по телефону 8 (901) 525-39-73\; 8 (495) 650-57-45.<br />
 Адрес\: Вспольный пер.\, 21.</p>
 
END:VEVENT
BEGIN:VEVENT
DTSTAMP;VALUE=DATE-TIME:20260422T035258Z
DTSTART;VALUE=DATE-TIME:20260117T160000Z
DTEND;VALUE=DATE-TIME:20260117T160000Z
UID:https://eot.su/node/24295
URL;VALUE=URI:https://eot.su/node/24295
SUMMARY:17 ЯНВАРЯ В ТЕАТРЕ «НА ДОСКАХ» – СПЕКТАКЛЬ «ЗЁРНА»
DESCRIPTION:<p>В субботу\, 17 января\, в 19\:00 в Московском театре «На досках» состоится спектакль «Зёрна».<br />
 Запись на спектакли и мероприятия театра по телефонам\: 8 (495) 650-57-45\, 8 (901) 525-39-73<br />
 Форма для записи на спектакль\: <a href=\\"https\://na-doskah.ru/form?spectacle=7635\\" title=\\"https\://na-doskah.ru/form?spectacle=7635\\" rel=\\"nofollow\\">https\://na-doskah.ru/form?spectacle=7635</a><br />
 Адрес\: Вспольный переулок\, 21</p>
 <p>Спектакль создан Сергеем Кургиняном по мотивам повести Антуана де Сент-Экзюпери «Военный летчик».</p>
 
END:VEVENT
END:VCALENDAR
