BEGIN:VCALENDAR
VERSION:2.0
METHOD:PUBLISH
X-WR-CALNAME:Суть времени |  апреля 20 2026- мая 20 2026
PRODID:-//strange bird labs//Drupal iCal API//EN
BEGIN:VEVENT
DTSTAMP;VALUE=DATE-TIME:20260420T041842Z
DTSTART;VALUE=DATE-TIME:20260421T160000Z
DTEND;VALUE=DATE-TIME:20260421T160000Z
UID:https://eot.su/node/24328
URL;VALUE=URI:https://eot.su/node/24328
SUMMARY:21 АПРЕЛЯ В ТЕАТРЕ «НА ДОСКАХ» – СПЕКТАКЛЬ «ДЕТСКИЙ ДОМ»
DESCRIPTION:<p>21 апреля\, во вторник\, в 19\:00 в Московском театре «На досках» состоится спектакль «Детский дом».<br />
 Запись на спектакли и мероприятия театра по телефонам\: 8 (495) 650-57-45\, 8 (901) 525-39-73<br />
 Форма для записи на спектакль\: <a href=\\"https\://na-doskah.ru/form?spectacle=7829\\" title=\\"https\://na-doskah.ru/form?spectacle=7829\\" rel=\\"nofollow\\">https\://na-doskah.ru/form?spectacle=7829</a><br />
 Адрес\: Вспольный переулок\, 21</p>
 
END:VEVENT
BEGIN:VEVENT
DTSTAMP;VALUE=DATE-TIME:20260420T041842Z
DTSTART;VALUE=DATE-TIME:20260425T160000Z
DTEND;VALUE=DATE-TIME:20260425T160000Z
UID:https://eot.su/node/24329
URL;VALUE=URI:https://eot.su/node/24329
SUMMARY:25 АПРЕЛЯ В ТЕАТРЕ «НА ДОСКАХ» — СПЕКТАКЛЬ «ЛОГОС»
DESCRIPTION:<p>25 апреля\, в субботу\, в Московском театре «На досках» — спектакль Сергея Кургиняна «Логос».<br />
 Продолжительность\: 3 часа без антракта.<br />
 Начало в 19\:00. После спектакля состоится беседа главного режиссера театра со зрителями.<br />
 Запись на спектакли и мероприятия театра по телефонам\: 8 (901) 525-39-73\, 8 (495) 650-57-45<br />
 Форма для записи на спектакль\: <a href=\\"https\://na-doskah.ru/form?spectacle=7831\\" title=\\"https\://na-doskah.ru/form?spectacle=7831\\" rel=\\"nofollow\\">https\://na-doskah.ru/form?spectacle=7831</a></p>
 
END:VEVENT
BEGIN:VEVENT
DTSTAMP;VALUE=DATE-TIME:20260420T041842Z
DTSTART;VALUE=DATE-TIME:20260427T160000Z
DTEND;VALUE=DATE-TIME:20260427T160000Z
UID:https://eot.su/node/24330
URL;VALUE=URI:https://eot.su/node/24330
SUMMARY:27 АПРЕЛЯ В ТЕАТРЕ «НА ДОСКАХ» – СПЕКТАКЛЬ «ЗЁРНА»
DESCRIPTION:<p>В понедельник\, 27 апреля\, в 19\:00 в Московском театре «На досках» состоится спектакль «Зёрна».<br />
 Запись на спектакли и мероприятия театра по телефонам\: 8 (495) 650-57-45\, 8 (901) 525-39-73<br />
 Форма для записи на спектакль\: <a href=\\"https\://na-doskah.ru/form?spectacle=7833\\" title=\\"https\://na-doskah.ru/form?spectacle=7833\\" rel=\\"nofollow\\">https\://na-doskah.ru/form?spectacle=7833</a><br />
 Адрес\: Вспольный переулок\, 21</p>
 <p>Спектакль создан Сергеем Кургиняном по мотивам повести Антуана де Сент-Экзюпери «Военный летчик».</p>
 
END:VEVENT
BEGIN:VEVENT
DTSTAMP;VALUE=DATE-TIME:20260420T041842Z
DTSTART;VALUE=DATE-TIME:20260428T160000Z
DTEND;VALUE=DATE-TIME:20260428T160000Z
UID:https://eot.su/node/24331
URL;VALUE=URI:https://eot.su/node/24331
SUMMARY:28 АПРЕЛЯ В ТЕАТРЕ «НА ДОСКАХ» – СПЕКТАКЛЬ «Я!»
DESCRIPTION:<p>28 апреля\, во вторник\, в Московском театре «На досках» состоится спектакль «Я!».<br />
 Запись на спектакли и мероприятия театра по телефону\: 8 (901) 525-39-73\, 8 (495) 650-57-45<br />
 Форма для записи на спектакль\: <a href=\\"https\://na-doskah.ru/form?spectacle=6465\\" title=\\"https\://na-doskah.ru/form?spectacle=6465\\" rel=\\"nofollow\\">https\://na-doskah.ru/form?spectacle=6465</a><br />
 Начало в 19\:00<br />
 Адрес\: Вспольный переулок\, 21.</p>
 
END:VEVENT
END:VCALENDAR
