BEGIN:VCALENDAR
VERSION:2.0
METHOD:PUBLISH
X-WR-CALNAME:Суть времени |  мая 26 2026- июня 25 2026
PRODID:-//strange bird labs//Drupal iCal API//EN
BEGIN:VEVENT
DTSTAMP;VALUE=DATE-TIME:20260426T031741Z
DTSTART;VALUE=DATE-TIME:20260526T160000Z
DTEND;VALUE=DATE-TIME:20260526T160000Z
UID:https://eot.su/node/24340
URL;VALUE=URI:https://eot.su/node/24340
SUMMARY:26 МАЯ В ТЕАТРЕ «НА ДОСКАХ» – СПЕКТАКЛЬ «ДЕТСКИЙ ДОМ»
DESCRIPTION:<p>26 мая\, во вторник\, в 19\:00 в Московском театре «На досках» состоится спектакль «Детский дом».<br />
 Запись на спектакли и мероприятия театра по телефонам\: 8 (495) 650-57-45\, 8 (901) 525-39-73<br />
 Форма для записи на спектакль\: <a href=\\"https\://na-doskah.ru/form?spectacle=7959\\" title=\\"https\://na-doskah.ru/form?spectacle=7959\\" rel=\\"nofollow\\">https\://na-doskah.ru/form?spectacle=7959</a><br />
 Адрес\: Вспольный переулок\, 21</p>
 
END:VEVENT
BEGIN:VEVENT
DTSTAMP;VALUE=DATE-TIME:20260426T031741Z
DTSTART;VALUE=DATE-TIME:20260530T160000Z
DTEND;VALUE=DATE-TIME:20260530T160000Z
UID:https://eot.su/node/24341
URL;VALUE=URI:https://eot.su/node/24341
SUMMARY:30 МАЯ В ТЕАТРЕ «НА ДОСКАХ» – СПЕКТАКЛЬ «СТЕНОГРАММА»
DESCRIPTION:<p>30 мая в субботу\, в Московском театре «На досках» состоится спектакль «Стенограмма». Начало в 19\:00<br />
 Запись на спектакли и мероприятия театра по телефону\: 8 (901) 525-39-73\, 8 (495) 650-57-45<br />
 Форма для записи на спектакль\: <a href=\\"https\://na-doskah.ru/form?spectacle=7961\\" title=\\"https\://na-doskah.ru/form?spectacle=7961\\" rel=\\"nofollow\\">https\://na-doskah.ru/form?spectacle=7961</a><br />
 Адрес\: Вспольный переулок\, 21</p>
 
END:VEVENT
END:VCALENDAR
